BEGIN:VCALENDAR
VERSION:2.0
PRODID:-//The United Church of Moscow - ECPv6.15.20//NONSGML v1.0//EN
CALSCALE:GREGORIAN
METHOD:PUBLISH
X-WR-CALNAME:The United Church of Moscow
X-ORIGINAL-URL:https://unitedchurchofmoscow.com
X-WR-CALDESC:Events for The United Church of Moscow
REFRESH-INTERVAL;VALUE=DURATION:PT1H
X-Robots-Tag:noindex
X-PUBLISHED-TTL:PT1H
BEGIN:VTIMEZONE
TZID:America/Los_Angeles
BEGIN:DAYLIGHT
TZOFFSETFROM:-0800
TZOFFSETTO:-0700
TZNAME:PDT
DTSTART:20250309T100000
END:DAYLIGHT
BEGIN:STANDARD
TZOFFSETFROM:-0700
TZOFFSETTO:-0800
TZNAME:PST
DTSTART:20251102T090000
END:STANDARD
BEGIN:DAYLIGHT
TZOFFSETFROM:-0800
TZOFFSETTO:-0700
TZNAME:PDT
DTSTART:20260308T100000
END:DAYLIGHT
BEGIN:STANDARD
TZOFFSETFROM:-0700
TZOFFSETTO:-0800
TZNAME:PST
DTSTART:20261101T090000
END:STANDARD
BEGIN:DAYLIGHT
TZOFFSETFROM:-0800
TZOFFSETTO:-0700
TZNAME:PDT
DTSTART:20270314T100000
END:DAYLIGHT
BEGIN:STANDARD
TZOFFSETFROM:-0700
TZOFFSETTO:-0800
TZNAME:PST
DTSTART:20271107T090000
END:STANDARD
END:VTIMEZONE
BEGIN:VEVENT
DTSTART;TZID=America/Los_Angeles:20260301T110000
DTEND;TZID=America/Los_Angeles:20260301T120000
DTSTAMP:20260423T093134
CREATED:20260208T230345Z
LAST-MODIFIED:20260208T230345Z
UID:3581-1772362800-1772366400@unitedchurchofmoscow.com
SUMMARY:Faith Exploration
DESCRIPTION:We invite you to join us for our Faith Exploration.
URL:https://unitedchurchofmoscow.com/events/faith-exploration-12/
LOCATION:The United Church of Moscow\, 123 W First St.\, Moscow\, ID\, 83843\, United States
END:VEVENT
BEGIN:VEVENT
DTSTART;TZID=America/Los_Angeles:20260308T110000
DTEND;TZID=America/Los_Angeles:20260308T120000
DTSTAMP:20260423T093134
CREATED:20260208T230518Z
LAST-MODIFIED:20260208T230518Z
UID:3583-1772967600-1772971200@unitedchurchofmoscow.com
SUMMARY:Traditional Worship
DESCRIPTION:We invite you to join us for our Traditional Worship with Pastor Hannah Brown.
URL:https://unitedchurchofmoscow.com/events/traditional-worship/
LOCATION:The United Church of Moscow\, 123 W First St.\, Moscow\, ID\, 83843\, United States
END:VEVENT
BEGIN:VEVENT
DTSTART;TZID=America/Los_Angeles:20260315T110000
DTEND;TZID=America/Los_Angeles:20260315T120000
DTSTAMP:20260423T093134
CREATED:20260208T230626Z
LAST-MODIFIED:20260208T230626Z
UID:3585-1773572400-1773576000@unitedchurchofmoscow.com
SUMMARY:Faith Exploration
DESCRIPTION:We invite you to join us for our Faith Exploration.
URL:https://unitedchurchofmoscow.com/events/faith-exploration-13/
LOCATION:The United Church of Moscow\, 123 W First St.\, Moscow\, ID\, 83843\, United States
END:VEVENT
BEGIN:VEVENT
DTSTART;TZID=America/Los_Angeles:20260322T110000
DTEND;TZID=America/Los_Angeles:20260322T120000
DTSTAMP:20260423T093134
CREATED:20260208T230851Z
LAST-MODIFIED:20260208T230851Z
UID:3589-1774177200-1774180800@unitedchurchofmoscow.com
SUMMARY:Traditional Worship
DESCRIPTION:We invite you to join us for our Traditional Worship with Pastor Hannah Brown.
URL:https://unitedchurchofmoscow.com/events/traditional-worship-2/
LOCATION:The United Church of Moscow\, 123 W First St.\, Moscow\, ID\, 83843\, United States
END:VEVENT
BEGIN:VEVENT
DTSTART;TZID=America/Los_Angeles:20260329T110000
DTEND;TZID=America/Los_Angeles:20260329T120000
DTSTAMP:20260423T093134
CREATED:20260208T230959Z
LAST-MODIFIED:20260208T230959Z
UID:3591-1774782000-1774785600@unitedchurchofmoscow.com
SUMMARY:Palm Sunday Service
DESCRIPTION:We invite you to join us for our Palm Sunday Worship with Pastor Hannah Brown.
URL:https://unitedchurchofmoscow.com/events/palm-sunday-service/
LOCATION:The United Church of Moscow\, 123 W First St.\, Moscow\, ID\, 83843\, United States
END:VEVENT
END:VCALENDAR