BEGIN:VCALENDAR
VERSION:2.0
PRODID:-//The United Church of Moscow - ECPv6.15.20//NONSGML v1.0//EN
CALSCALE:GREGORIAN
METHOD:PUBLISH
X-ORIGINAL-URL:https://unitedchurchofmoscow.com
X-WR-CALDESC:Events for The United Church of Moscow
REFRESH-INTERVAL;VALUE=DURATION:PT1H
X-Robots-Tag:noindex
X-PUBLISHED-TTL:PT1H
BEGIN:VTIMEZONE
TZID:America/Los_Angeles
BEGIN:DAYLIGHT
TZOFFSETFROM:-0800
TZOFFSETTO:-0700
TZNAME:PDT
DTSTART:20240310T100000
END:DAYLIGHT
BEGIN:STANDARD
TZOFFSETFROM:-0700
TZOFFSETTO:-0800
TZNAME:PST
DTSTART:20241103T090000
END:STANDARD
BEGIN:DAYLIGHT
TZOFFSETFROM:-0800
TZOFFSETTO:-0700
TZNAME:PDT
DTSTART:20250309T100000
END:DAYLIGHT
BEGIN:STANDARD
TZOFFSETFROM:-0700
TZOFFSETTO:-0800
TZNAME:PST
DTSTART:20251102T090000
END:STANDARD
BEGIN:DAYLIGHT
TZOFFSETFROM:-0800
TZOFFSETTO:-0700
TZNAME:PDT
DTSTART:20260308T100000
END:DAYLIGHT
BEGIN:STANDARD
TZOFFSETFROM:-0700
TZOFFSETTO:-0800
TZNAME:PST
DTSTART:20261101T090000
END:STANDARD
END:VTIMEZONE
BEGIN:VEVENT
DTSTART;TZID=America/Los_Angeles:20251005T110000
DTEND;TZID=America/Los_Angeles:20251005T120000
DTSTAMP:20260423T174814
CREATED:20251002T051609Z
LAST-MODIFIED:20251002T051609Z
UID:3434-1759662000-1759665600@unitedchurchofmoscow.com
SUMMARY:Traditional Worship with Pastor Hannah Brown
DESCRIPTION:We invite you to join us for our Traditional Worship with Pastor Hannah Brown
URL:https://unitedchurchofmoscow.com/events/traditional-worship-with-pastor-hannah-brown/
LOCATION:The United Church of Moscow\, 123 W First St.\, Moscow\, ID\, 83843\, United States
END:VEVENT
BEGIN:VEVENT
DTSTART;TZID=America/Los_Angeles:20251012T110000
DTEND;TZID=America/Los_Angeles:20251012T120000
DTSTAMP:20260423T174814
CREATED:20251002T051745Z
LAST-MODIFIED:20251002T051745Z
UID:3436-1760266800-1760270400@unitedchurchofmoscow.com
SUMMARY:Faith Exploration
DESCRIPTION:We invite you to join us for our Faith Exploration.
URL:https://unitedchurchofmoscow.com/events/faith-exploration-4/
LOCATION:The United Church of Moscow\, 123 W First St.\, Moscow\, ID\, 83843\, United States
END:VEVENT
BEGIN:VEVENT
DTSTART;TZID=America/Los_Angeles:20251019T110000
DTEND;TZID=America/Los_Angeles:20251019T120000
DTSTAMP:20260423T174814
CREATED:20251002T051925Z
LAST-MODIFIED:20251002T051925Z
UID:3438-1760871600-1760875200@unitedchurchofmoscow.com
SUMMARY:Traditional Worship with Pastor Hannah Brown
DESCRIPTION:We invite you to join us for our Traditional Worship with Pastor Hannah Brown.
URL:https://unitedchurchofmoscow.com/events/traditional-worship-with-pastor-hannah-brown-2/
LOCATION:The United Church of Moscow\, 123 W First St.\, Moscow\, ID\, 83843\, United States
END:VEVENT
BEGIN:VEVENT
DTSTART;TZID=America/Los_Angeles:20251026T110000
DTEND;TZID=America/Los_Angeles:20251026T120000
DTSTAMP:20260423T174814
CREATED:20251002T052117Z
LAST-MODIFIED:20251002T052117Z
UID:3440-1761476400-1761480000@unitedchurchofmoscow.com
SUMMARY:Faith Exploration
DESCRIPTION:We invite you to join us for our Faith Exploration.
URL:https://unitedchurchofmoscow.com/events/faith-exploration-5/
LOCATION:The United Church of Moscow\, 123 W First St.\, Moscow\, ID\, 83843\, United States
END:VEVENT
END:VCALENDAR