BEGIN:VCALENDAR
VERSION:2.0
PRODID:-//The United Church of Moscow - ECPv6.15.20//NONSGML v1.0//EN
CALSCALE:GREGORIAN
METHOD:PUBLISH
X-WR-CALNAME:The United Church of Moscow
X-ORIGINAL-URL:https://unitedchurchofmoscow.com
X-WR-CALDESC:Events for The United Church of Moscow
REFRESH-INTERVAL;VALUE=DURATION:PT1H
X-Robots-Tag:noindex
X-PUBLISHED-TTL:PT1H
BEGIN:VTIMEZONE
TZID:America/Los_Angeles
BEGIN:DAYLIGHT
TZOFFSETFROM:-0800
TZOFFSETTO:-0700
TZNAME:PDT
DTSTART:20220313T100000
END:DAYLIGHT
BEGIN:STANDARD
TZOFFSETFROM:-0700
TZOFFSETTO:-0800
TZNAME:PST
DTSTART:20221106T090000
END:STANDARD
BEGIN:DAYLIGHT
TZOFFSETFROM:-0800
TZOFFSETTO:-0700
TZNAME:PDT
DTSTART:20230312T100000
END:DAYLIGHT
BEGIN:STANDARD
TZOFFSETFROM:-0700
TZOFFSETTO:-0800
TZNAME:PST
DTSTART:20231105T090000
END:STANDARD
BEGIN:DAYLIGHT
TZOFFSETFROM:-0800
TZOFFSETTO:-0700
TZNAME:PDT
DTSTART:20240310T100000
END:DAYLIGHT
BEGIN:STANDARD
TZOFFSETFROM:-0700
TZOFFSETTO:-0800
TZNAME:PST
DTSTART:20241103T090000
END:STANDARD
BEGIN:DAYLIGHT
TZOFFSETFROM:-0800
TZOFFSETTO:-0700
TZNAME:PDT
DTSTART:20250309T100000
END:DAYLIGHT
BEGIN:STANDARD
TZOFFSETFROM:-0700
TZOFFSETTO:-0800
TZNAME:PST
DTSTART:20251102T090000
END:STANDARD
END:VTIMEZONE
BEGIN:VEVENT
DTSTART;TZID=America/Los_Angeles:20240324T110000
DTEND;TZID=America/Los_Angeles:20240324T120000
DTSTAMP:20260424T090615
CREATED:20231005T150052Z
LAST-MODIFIED:20231212T175231Z
UID:2824-1711278000-1711281600@unitedchurchofmoscow.com
SUMMARY:Selected Episode – The Chosen relevant to Easter
DESCRIPTION:
URL:https://unitedchurchofmoscow.com/events/selected-episode-the-chosen-3/
END:VEVENT
BEGIN:VEVENT
DTSTART;TZID=America/Los_Angeles:20240317T110000
DTEND;TZID=America/Los_Angeles:20240317T120000
DTSTAMP:20260424T090615
CREATED:20231005T145756Z
LAST-MODIFIED:20231212T175206Z
UID:2822-1710673200-1710676800@unitedchurchofmoscow.com
SUMMARY:Selected Episode – The Chosen relevant to Easter
DESCRIPTION:Selected Episode – The Chosen
URL:https://unitedchurchofmoscow.com/events/selected-episode-the-chosen-2/
END:VEVENT
BEGIN:VEVENT
DTSTART;TZID=America/Los_Angeles:20240310T110000
DTEND;TZID=America/Los_Angeles:20240310T120000
DTSTAMP:20260424T090615
CREATED:20231005T145644Z
LAST-MODIFIED:20231005T145644Z
UID:2820-1710068400-1710072000@unitedchurchofmoscow.com
SUMMARY:No Service - MSD Spring Break
DESCRIPTION:
URL:https://unitedchurchofmoscow.com/events/no-service-msd-spring-break/
END:VEVENT
BEGIN:VEVENT
DTSTART;TZID=America/Los_Angeles:20240303T110000
DTEND;TZID=America/Los_Angeles:20240303T120000
DTSTAMP:20260424T090615
CREATED:20231005T145506Z
LAST-MODIFIED:20231212T175111Z
UID:2818-1709463600-1709467200@unitedchurchofmoscow.com
SUMMARY:Joint Service with another Church
DESCRIPTION:
URL:https://unitedchurchofmoscow.com/events/joint-service-another-church/
END:VEVENT
BEGIN:VEVENT
DTSTART;TZID=America/Los_Angeles:20240225T110000
DTEND;TZID=America/Los_Angeles:20240225T120000
DTSTAMP:20260424T090615
CREATED:20231005T145258Z
LAST-MODIFIED:20231005T145258Z
UID:2815-1708858800-1708862400@unitedchurchofmoscow.com
SUMMARY:Open to Suggestions
DESCRIPTION:
URL:https://unitedchurchofmoscow.com/events/open-to-suggestions/
END:VEVENT
BEGIN:VEVENT
DTSTART;TZID=America/Los_Angeles:20240218T110000
DTEND;TZID=America/Los_Angeles:20240218T120000
DTSTAMP:20260424T090615
CREATED:20231005T114349Z
LAST-MODIFIED:20231005T114349Z
UID:2808-1708254000-1708257600@unitedchurchofmoscow.com
SUMMARY:No Service - Presidents Day
DESCRIPTION:
URL:https://unitedchurchofmoscow.com/events/no-service-presidents-day/
END:VEVENT
BEGIN:VEVENT
DTSTART;TZID=America/Los_Angeles:20240211T110000
DTEND;TZID=America/Los_Angeles:20240211T120000
DTSTAMP:20260424T090615
CREATED:20231005T114318Z
LAST-MODIFIED:20231005T114318Z
UID:2806-1707649200-1707652800@unitedchurchofmoscow.com
SUMMARY:Traditional Service
DESCRIPTION:
URL:https://unitedchurchofmoscow.com/events/traditional-service/
END:VEVENT
BEGIN:VEVENT
DTSTART;TZID=America/Los_Angeles:20240204T110000
DTEND;TZID=America/Los_Angeles:20240204T120000
DTSTAMP:20260424T090615
CREATED:20231005T114249Z
LAST-MODIFIED:20231005T114249Z
UID:2804-1707044400-1707048000@unitedchurchofmoscow.com
SUMMARY:Faith Exploration – Racial Justice Follow-up Discussion
DESCRIPTION:
URL:https://unitedchurchofmoscow.com/events/faith-exploration-racial-justice-follow-up-discussion/
END:VEVENT
BEGIN:VEVENT
DTSTART;TZID=America/Los_Angeles:20240128T110000
DTEND;TZID=America/Los_Angeles:20240128T120000
DTSTAMP:20260424T090615
CREATED:20231005T114222Z
LAST-MODIFIED:20231212T175021Z
UID:2802-1706439600-1706443200@unitedchurchofmoscow.com
SUMMARY:Guest Speaker – Racial Justice: Dr. Kristen Haltinner and Dr. Mario Pile
DESCRIPTION:
URL:https://unitedchurchofmoscow.com/events/guest-speaker-racial-justice/
END:VEVENT
BEGIN:VEVENT
DTSTART;TZID=America/Los_Angeles:20240121T110000
DTEND;TZID=America/Los_Angeles:20240121T120000
DTSTAMP:20260424T090615
CREATED:20231005T114154Z
LAST-MODIFIED:20231212T174930Z
UID:2800-1705834800-1705838400@unitedchurchofmoscow.com
SUMMARY:Hymn Sing & Music Service (Church Members play)\, Jackson Street 4
DESCRIPTION:Service – Hymn Sing & Music Service (Church Members play)\, Jackson Street 4
URL:https://unitedchurchofmoscow.com/events/2800/
END:VEVENT
BEGIN:VEVENT
DTSTART;TZID=America/Los_Angeles:20240114T110000
DTEND;TZID=America/Los_Angeles:20240114T120000
DTSTAMP:20260424T090615
CREATED:20231005T114124Z
LAST-MODIFIED:20231005T114124Z
UID:2798-1705230000-1705233600@unitedchurchofmoscow.com
SUMMARY:Faith Exploration – Racial Justice Introduction
DESCRIPTION:
URL:https://unitedchurchofmoscow.com/events/faith-exploration-racial-justice-introduction/
END:VEVENT
BEGIN:VEVENT
DTSTART;TZID=America/Los_Angeles:20240114T101500
DTEND;TZID=America/Los_Angeles:20240114T110000
DTSTAMP:20260424T090615
CREATED:20231212T174739Z
LAST-MODIFIED:20231212T174739Z
UID:2886-1705227300-1705230000@unitedchurchofmoscow.com
SUMMARY:Pilot of 30 minute communion service
DESCRIPTION:
URL:https://unitedchurchofmoscow.com/events/pilot-of-30-minute-communion-service/
END:VEVENT
BEGIN:VEVENT
DTSTART;TZID=America/Los_Angeles:20240107T110000
DTEND;TZID=America/Los_Angeles:20240107T120000
DTSTAMP:20260424T090615
CREATED:20231005T114053Z
LAST-MODIFIED:20231005T114053Z
UID:2796-1704625200-1704628800@unitedchurchofmoscow.com
SUMMARY:Traditional Service with special music
DESCRIPTION:
URL:https://unitedchurchofmoscow.com/events/traditional-service-with-special-music/
END:VEVENT
BEGIN:VEVENT
DTSTART;TZID=America/Los_Angeles:20240101T110000
DTEND;TZID=America/Los_Angeles:20240101T120000
DTSTAMP:20260424T090615
CREATED:20231005T114024Z
LAST-MODIFIED:20231005T114024Z
UID:2794-1704106800-1704110400@unitedchurchofmoscow.com
SUMMARY:No Service – New Year
DESCRIPTION:
URL:https://unitedchurchofmoscow.com/events/no-service-new-year/
END:VEVENT
BEGIN:VEVENT
DTSTART;TZID=America/Los_Angeles:20231224T110000
DTEND;TZID=America/Los_Angeles:20231224T120000
DTSTAMP:20260424T090615
CREATED:20231005T113948Z
LAST-MODIFIED:20231005T114521Z
UID:2792-1703415600-1703419200@unitedchurchofmoscow.com
SUMMARY:Traditional Service – Christmas Eve Service w/ communion & candle lighting
DESCRIPTION:
URL:https://unitedchurchofmoscow.com/events/trad-service-christmas-eve-service-w-communion-candle-lighting/
END:VEVENT
BEGIN:VEVENT
DTSTART;TZID=America/Los_Angeles:20231217T110000
DTEND;TZID=America/Los_Angeles:20231217T120000
DTSTAMP:20260424T090615
CREATED:20231005T113918Z
LAST-MODIFIED:20231212T174551Z
UID:2790-1702810800-1702814400@unitedchurchofmoscow.com
SUMMARY:Music Service with Choir
DESCRIPTION:
URL:https://unitedchurchofmoscow.com/events/pre-christmas-potluck-and-music-service-with-choir/
END:VEVENT
BEGIN:VEVENT
DTSTART;TZID=America/Los_Angeles:20231210T110000
DTEND;TZID=America/Los_Angeles:20231210T120000
DTSTAMP:20260424T090615
CREATED:20231005T113850Z
LAST-MODIFIED:20231005T113850Z
UID:2788-1702206000-1702209600@unitedchurchofmoscow.com
SUMMARY:Selected Episode – The Chosen
DESCRIPTION:
URL:https://unitedchurchofmoscow.com/events/selected-episode-the-chosen/
END:VEVENT
BEGIN:VEVENT
DTSTART;TZID=America/Los_Angeles:20231203T110000
DTEND;TZID=America/Los_Angeles:20231203T120000
DTSTAMP:20260424T090615
CREATED:20231005T113751Z
LAST-MODIFIED:20231005T113751Z
UID:2786-1701601200-1701604800@unitedchurchofmoscow.com
SUMMARY:Traditional type of Hymn Sing
DESCRIPTION:
URL:https://unitedchurchofmoscow.com/events/traditional-type-of-hymn-sing/
END:VEVENT
BEGIN:VEVENT
DTSTART;TZID=America/Los_Angeles:20231126T110000
DTEND;TZID=America/Los_Angeles:20231126T120000
DTSTAMP:20260424T090615
CREATED:20230928T164432Z
LAST-MODIFIED:20230928T164432Z
UID:2764-1700996400-1701000000@unitedchurchofmoscow.com
SUMMARY:No Service – Thanksgiving - Decorate Sanctuary
DESCRIPTION:
URL:https://unitedchurchofmoscow.com/events/no-service-thanksgiving-decorate-sanctuary/
END:VEVENT
BEGIN:VEVENT
DTSTART;TZID=America/Los_Angeles:20231119T110000
DTEND;TZID=America/Los_Angeles:20231119T120000
DTSTAMP:20260424T090615
CREATED:20230928T164546Z
LAST-MODIFIED:20230928T190539Z
UID:2766-1700391600-1700395200@unitedchurchofmoscow.com
SUMMARY:Traditional Service
DESCRIPTION:
URL:https://unitedchurchofmoscow.com/events/worship-service-35/
END:VEVENT
BEGIN:VEVENT
DTSTART;TZID=America/Los_Angeles:20231112T110000
DTEND;TZID=America/Los_Angeles:20231112T120000
DTSTAMP:20260424T090615
CREATED:20230928T164312Z
LAST-MODIFIED:20230928T185813Z
UID:2761-1699786800-1699790400@unitedchurchofmoscow.com
SUMMARY:Climate Justice Follow-up Discussion
DESCRIPTION:
URL:https://unitedchurchofmoscow.com/events/faith-exploration-climate-justice-follow-up-discussion/
END:VEVENT
BEGIN:VEVENT
DTSTART;TZID=America/Los_Angeles:20231105T110000
DTEND;TZID=America/Los_Angeles:20231105T120000
DTSTAMP:20260424T090615
CREATED:20230928T163905Z
LAST-MODIFIED:20230928T185542Z
UID:2759-1699182000-1699185600@unitedchurchofmoscow.com
SUMMARY:Speaker – Climate Justice
DESCRIPTION:
URL:https://unitedchurchofmoscow.com/events/speaker-climate-justice/
END:VEVENT
BEGIN:VEVENT
DTSTART;TZID=America/Los_Angeles:20231101T080000
DTEND;TZID=America/Los_Angeles:20231101T170000
DTSTAMP:20260424T090615
CREATED:20231101T113600Z
LAST-MODIFIED:20231101T113600Z
UID:2855-1698825600-1698858000@unitedchurchofmoscow.com
SUMMARY:
DESCRIPTION:Climate Injustice
URL:https://unitedchurchofmoscow.com/events/2855/
END:VEVENT
BEGIN:VEVENT
DTSTART;VALUE=DATE:20231029
DTEND;VALUE=DATE:20231030
DTSTAMP:20260424T090615
CREATED:20230902T141141Z
LAST-MODIFIED:20230928T163808Z
UID:2707-1698537600-1698623999@unitedchurchofmoscow.com
SUMMARY:No Service - Halloween
DESCRIPTION:Worship Service
URL:https://unitedchurchofmoscow.com/events/worship-service-34/
END:VEVENT
BEGIN:VEVENT
DTSTART;TZID=America/Los_Angeles:20231027T173000
DTEND;TZID=America/Los_Angeles:20231027T193000
DTSTAMP:20260424T090615
CREATED:20230902T141823Z
LAST-MODIFIED:20230902T141823Z
UID:2739-1698427800-1698435000@unitedchurchofmoscow.com
SUMMARY:AA Meeting
DESCRIPTION:
URL:https://unitedchurchofmoscow.com/events/aa-meeting-72/
END:VEVENT
BEGIN:VEVENT
DTSTART;TZID=America/Los_Angeles:20231025T190000
DTEND;TZID=America/Los_Angeles:20231025T210000
DTSTAMP:20260424T090615
CREATED:20230902T142245Z
LAST-MODIFIED:20230902T142245Z
UID:2747-1698260400-1698267600@unitedchurchofmoscow.com
SUMMARY:Elders'/Deacons' Meeting
DESCRIPTION:
URL:https://unitedchurchofmoscow.com/events/elders-deacons-meeting-8/
END:VEVENT
BEGIN:VEVENT
DTSTART;TZID=America/Los_Angeles:20231024T173000
DTEND;TZID=America/Los_Angeles:20231024T193000
DTSTAMP:20260424T090615
CREATED:20230902T141759Z
LAST-MODIFIED:20230902T141759Z
UID:2737-1698168600-1698175800@unitedchurchofmoscow.com
SUMMARY:AA Meeting
DESCRIPTION:
URL:https://unitedchurchofmoscow.com/events/aa-meeting-71/
END:VEVENT
BEGIN:VEVENT
DTSTART;TZID=America/Los_Angeles:20231022T110000
DTEND;TZID=America/Los_Angeles:20231022T120000
DTSTAMP:20260424T090615
CREATED:20230928T163735Z
LAST-MODIFIED:20230928T190451Z
UID:2756-1697972400-1697976000@unitedchurchofmoscow.com
SUMMARY:Traditional Service – Hymn Sing
DESCRIPTION:Traditional Service – Hymn Sing
URL:https://unitedchurchofmoscow.com/events/traditional-service-hymn-sing/
END:VEVENT
BEGIN:VEVENT
DTSTART;TZID=America/Los_Angeles:20231019T173000
DTEND;TZID=America/Los_Angeles:20231019T193000
DTSTAMP:20260424T090615
CREATED:20230902T141734Z
LAST-MODIFIED:20230902T141734Z
UID:2735-1697736600-1697743800@unitedchurchofmoscow.com
SUMMARY:AA Meeting
DESCRIPTION:
URL:https://unitedchurchofmoscow.com/events/aa-meeting-70/
END:VEVENT
BEGIN:VEVENT
DTSTART;TZID=America/Los_Angeles:20231017T173000
DTEND;TZID=America/Los_Angeles:20231017T193000
DTSTAMP:20260424T090615
CREATED:20230902T141715Z
LAST-MODIFIED:20230902T141715Z
UID:2733-1697563800-1697571000@unitedchurchofmoscow.com
SUMMARY:AA Meeting
DESCRIPTION:
URL:https://unitedchurchofmoscow.com/events/aa-meeting-69/
END:VEVENT
END:VCALENDAR