BEGIN:VCALENDAR
VERSION:2.0
PRODID:-//The United Church of Moscow - ECPv6.15.20//NONSGML v1.0//EN
CALSCALE:GREGORIAN
METHOD:PUBLISH
X-WR-CALNAME:The United Church of Moscow
X-ORIGINAL-URL:https://unitedchurchofmoscow.com
X-WR-CALDESC:Events for The United Church of Moscow
REFRESH-INTERVAL;VALUE=DURATION:PT1H
X-Robots-Tag:noindex
X-PUBLISHED-TTL:PT1H
BEGIN:VTIMEZONE
TZID:America/Los_Angeles
BEGIN:DAYLIGHT
TZOFFSETFROM:-0800
TZOFFSETTO:-0700
TZNAME:PDT
DTSTART:20230312T100000
END:DAYLIGHT
BEGIN:STANDARD
TZOFFSETFROM:-0700
TZOFFSETTO:-0800
TZNAME:PST
DTSTART:20231105T090000
END:STANDARD
BEGIN:DAYLIGHT
TZOFFSETFROM:-0800
TZOFFSETTO:-0700
TZNAME:PDT
DTSTART:20240310T100000
END:DAYLIGHT
BEGIN:STANDARD
TZOFFSETFROM:-0700
TZOFFSETTO:-0800
TZNAME:PST
DTSTART:20241103T090000
END:STANDARD
BEGIN:DAYLIGHT
TZOFFSETFROM:-0800
TZOFFSETTO:-0700
TZNAME:PDT
DTSTART:20250309T100000
END:DAYLIGHT
BEGIN:STANDARD
TZOFFSETFROM:-0700
TZOFFSETTO:-0800
TZNAME:PST
DTSTART:20251102T090000
END:STANDARD
BEGIN:DAYLIGHT
TZOFFSETFROM:-0800
TZOFFSETTO:-0700
TZNAME:PDT
DTSTART:20260308T100000
END:DAYLIGHT
BEGIN:STANDARD
TZOFFSETFROM:-0700
TZOFFSETTO:-0800
TZNAME:PST
DTSTART:20261101T090000
END:STANDARD
END:VTIMEZONE
BEGIN:VEVENT
DTSTART;TZID=America/Los_Angeles:20250119T110000
DTEND;TZID=America/Los_Angeles:20250119T120000
DTSTAMP:20260424T073202
CREATED:20250111T003140Z
LAST-MODIFIED:20250111T004206Z
UID:3237-1737284400-1737288000@unitedchurchofmoscow.com
SUMMARY:Join us for our Traditional service.  All are welcome to join us as we gather in worship.
DESCRIPTION:We look forward to sharing our worship with beautiful\, genuine you.
URL:https://unitedchurchofmoscow.com/events/join-us-for-our-traditional-service-all-are-welcome-to-join-us-as-we-gather-in-worship-4/
LOCATION:The United Church of Moscow\, 123 W First St.\, Moscow\, ID\, 83843\, United States
END:VEVENT
BEGIN:VEVENT
DTSTART;TZID=America/Los_Angeles:20250112T110000
DTEND;TZID=America/Los_Angeles:20250112T120000
DTSTAMP:20260424T073202
CREATED:20250111T003043Z
LAST-MODIFIED:20250111T004100Z
UID:3235-1736679600-1736683200@unitedchurchofmoscow.com
SUMMARY:"Have you pushed your gratitude button lately?"  All are welcome to join us as we gather in worship.
DESCRIPTION:Our very own Glenda Hawley delivers our talk for today. We look forward to sharing our worship with beautiful\, genuine you.
URL:https://unitedchurchofmoscow.com/events/join-us-for-our-traditional-service-all-are-welcome-to-join-us-as-we-gather-in-worship-3/
LOCATION:The United Church of Moscow\, 123 W First St.\, Moscow\, ID\, 83843\, United States
END:VEVENT
BEGIN:VEVENT
DTSTART;VALUE=DATE:20241229
DTEND;VALUE=DATE:20241230
DTSTAMP:20260424T073202
CREATED:20241115T220434Z
LAST-MODIFIED:20241115T221007Z
UID:3204-1735430400-1735516799@unitedchurchofmoscow.com
SUMMARY:(No) Service Sunday
DESCRIPTION:We will not host service at UCM today.  We invited you to carry out a service for someone in our community.
URL:https://unitedchurchofmoscow.com/events/no-service-sunday-2/
LOCATION:The United Church of Moscow\, 123 W First St.\, Moscow\, ID\, 83843\, United States
END:VEVENT
BEGIN:VEVENT
DTSTART;TZID=America/Los_Angeles:20241222T110000
DTEND;TZID=America/Los_Angeles:20241222T120000
DTSTAMP:20260424T073202
CREATED:20241115T220259Z
LAST-MODIFIED:20241115T221117Z
UID:3202-1734865200-1734868800@unitedchurchofmoscow.com
SUMMARY:Join us for our Christmas service.  All are welcome to join us as we gather in worship.
DESCRIPTION:We look forward to sharing our Christmas worship with beautiful\, genuine you.
URL:https://unitedchurchofmoscow.com/events/join-us-for-our-christmas-service-all-are-welcome-to-join-us-as-we-gather-in-worship/
LOCATION:The United Church of Moscow\, 123 W First St.\, Moscow\, ID\, 83843\, United States
END:VEVENT
BEGIN:VEVENT
DTSTART;TZID=America/Los_Angeles:20241217T183000
DTEND;TZID=America/Los_Angeles:20241217T200000
DTSTAMP:20260424T073202
CREATED:20241210T012328Z
LAST-MODIFIED:20241212T210355Z
UID:3218-1734460200-1734465600@unitedchurchofmoscow.com
SUMMARY:Registration NOW CLOSED: An Inside Look at Extremism in the Northwest and How it is Shaping Our Lives and Politics
DESCRIPTION:Heath Druzin\, host and creator of the podcast “Extremely American” that aired on NPR will give a talk on “An Inside Look at Extremism in the Northwest and How it is Shaping Our Lives and Politics” in Moscow on Tuesday\, December 17 at 6:30pm at the 1912 Center Great Room.\nThe talk is sponsored by The United Church of Moscow\, The Moscow Human Rights Task Force and the Community Congregational United Church of Christ in Pullman.\nDruzin’s presentation will be followed by a Question and Answer period with questions submitted by panel members and the audience.\nRegistration for the event is required as space is limited. Use this link: https://forms.gle/41m6CkV6VeA34f819\nIn addition to the podcast host and creator\, Heath Druzin was a reporter with the public radio project Guns &amp; America. He has reported for outlets such as NPR\, BBC and the Daily Beast. Previously\, he spent more than six years as a war correspondent in Iraq and Afghanistan for Stars and Stripes.
URL:https://unitedchurchofmoscow.com/events/an-inside-look-at-extremism-in-the-northwest-and-how-it-is-shaping-our-lives-and-politics/
LOCATION:1912 Center\, 412 E 3rd St\, Moscow\, ID\, 83843
END:VEVENT
BEGIN:VEVENT
DTSTART;TZID=America/Los_Angeles:20241215T110000
DTEND;TZID=America/Los_Angeles:20241215T120000
DTSTAMP:20260424T073202
CREATED:20241115T220016Z
LAST-MODIFIED:20241115T220035Z
UID:3200-1734260400-1734264000@unitedchurchofmoscow.com
SUMMARY:Join us for our Traditional service.  All are welcome to join us as we gather in worship.
DESCRIPTION:We look forward to sharing our worship with beautiful\, genuine you.
URL:https://unitedchurchofmoscow.com/events/join-us-for-our-traditional-service-all-are-welcome-to-join-us-as-we-gather-in-worship-2/
LOCATION:The United Church of Moscow\, 123 W First St.\, Moscow\, ID\, 83843\, United States
END:VEVENT
BEGIN:VEVENT
DTSTART;TZID=America/Los_Angeles:20241208T110000
DTEND;TZID=America/Los_Angeles:20241208T120000
DTSTAMP:20260424T073202
CREATED:20241115T220721Z
LAST-MODIFIED:20241210T011621Z
UID:3206-1733655600-1733659200@unitedchurchofmoscow.com
SUMMARY:Keeping the Light
DESCRIPTION:Keeping the Light\, a presentation about Jewish and the Baha’i’ winter celebrations.
URL:https://unitedchurchofmoscow.com/events/planned-interfaith-holidays/
LOCATION:The United Church of Moscow\, 123 W First St.\, Moscow\, ID\, 83843\, United States
END:VEVENT
BEGIN:VEVENT
DTSTART;VALUE=DATE:20241201
DTEND;VALUE=DATE:20241202
DTSTAMP:20260424T073202
CREATED:20241031T213618Z
LAST-MODIFIED:20241031T213931Z
UID:3188-1733011200-1733097599@unitedchurchofmoscow.com
SUMMARY:(No) Service Sunday
DESCRIPTION:We will not host a service or presentation at UCM this Sunday.  Rather we invite all to engage in a service for our community.
URL:https://unitedchurchofmoscow.com/events/no-service-sunday/
LOCATION:The United Church of Moscow\, 123 W First St.\, Moscow\, ID\, 83843\, United States
END:VEVENT
BEGIN:VEVENT
DTSTART;TZID=America/Los_Angeles:20241124T110000
DTEND;TZID=America/Los_Angeles:20241124T120000
DTSTAMP:20260424T073202
CREATED:20241031T213335Z
LAST-MODIFIED:20241115T215709Z
UID:3186-1732446000-1732449600@unitedchurchofmoscow.com
SUMMARY:Join us for our Traditional service.  All are welcome to join us as we gather in worship.
DESCRIPTION:We look forward to sharing our worship with beautiful\, genuine you.
URL:https://unitedchurchofmoscow.com/events/join-us-for-our-traditional-service-all-are-welcome-to-join-us-as-we-gather-in-worship/
LOCATION:The United Church of Moscow\, 123 W First St.\, Moscow\, ID\, 83843\, United States
END:VEVENT
BEGIN:VEVENT
DTSTART;TZID=America/Los_Angeles:20241117T110000
DTEND;TZID=America/Los_Angeles:20241117T120000
DTSTAMP:20260424T073202
CREATED:20241031T212943Z
LAST-MODIFIED:20241115T215207Z
UID:3184-1731841200-1731844800@unitedchurchofmoscow.com
SUMMARY:UI Black Student Union Panel
DESCRIPTION:We’re excited to host a panel of students from the University of Idaho’s Black Student Union to share their experiences.
URL:https://unitedchurchofmoscow.com/events/student-diversity-panel/
LOCATION:The United Church of Moscow\, 123 W First St.\, Moscow\, ID\, 83843\, United States
END:VEVENT
BEGIN:VEVENT
DTSTART;TZID=America/Los_Angeles:20241110T110000
DTEND;TZID=America/Los_Angeles:20241110T120000
DTSTAMP:20260424T073202
CREATED:20241031T211929Z
LAST-MODIFIED:20241031T212031Z
UID:3181-1731236400-1731240000@unitedchurchofmoscow.com
SUMMARY:Join us for our Traditional service.  All are welcome to join us as we gather in worship.
DESCRIPTION:All are welcome to join us as we gather in worship.
URL:https://unitedchurchofmoscow.com/events/join-us-for-our-traditional-service/
LOCATION:The United Church of Moscow\, 123 W First St.\, Moscow\, ID\, 83843\, United States
END:VEVENT
BEGIN:VEVENT
DTSTART;TZID=America/Los_Angeles:20241103T110000
DTEND;TZID=America/Los_Angeles:20241103T120000
DTSTAMP:20260424T073202
CREATED:20241031T210929Z
LAST-MODIFIED:20241031T211148Z
UID:3179-1730631600-1730635200@unitedchurchofmoscow.com
SUMMARY:"What would Jesus do?": PROJECT 2025\, Agenda 47\, & AFPI
DESCRIPTION:We’ll learn and discuss more about PROJECT 2025\, Agenda 47\, & AFPI as we ask the question: “What would Jesus do?”
URL:https://unitedchurchofmoscow.com/events/what-would-jesus-do-project-2025-agenda-47-afpi/
LOCATION:The United Church of Moscow\, 123 W First St.\, Moscow\, ID\, 83843\, United States
END:VEVENT
BEGIN:VEVENT
DTSTART;TZID=America/Los_Angeles:20241027T110000
DTEND;TZID=America/Los_Angeles:20241027T120000
DTSTAMP:20260424T073202
CREATED:20241005T001108Z
LAST-MODIFIED:20241005T001302Z
UID:3165-1730026800-1730030400@unitedchurchofmoscow.com
SUMMARY:Traditional Service
DESCRIPTION:We will observe a traditional service today.
URL:https://unitedchurchofmoscow.com/events/traditional-service-5/
LOCATION:The United Church of Moscow\, 123 W First St.\, Moscow\, ID\, 83843\, United States
END:VEVENT
BEGIN:VEVENT
DTSTART;TZID=America/Los_Angeles:20241020T110000
DTEND;TZID=America/Los_Angeles:20241020T120000
DTSTAMP:20260424T073202
CREATED:20241005T001005Z
LAST-MODIFIED:20241031T210314Z
UID:3163-1729422000-1729425600@unitedchurchofmoscow.com
SUMMARY:Discussion regarding Agenda 47 and Project 2025
DESCRIPTION:Traditional Service\n“What would Jesus do?”
URL:https://unitedchurchofmoscow.com/events/traditional-service-4/
LOCATION:The United Church of Moscow\, 123 W First St.\, Moscow\, ID\, 83843\, United States
END:VEVENT
BEGIN:VEVENT
DTSTART;TZID=America/Los_Angeles:20241013T110000
DTEND;TZID=America/Los_Angeles:20241013T120000
DTSTAMP:20260424T073202
CREATED:20241005T001909Z
LAST-MODIFIED:20241005T001909Z
UID:3169-1728817200-1728820800@unitedchurchofmoscow.com
SUMMARY:Presentation on Mis & Dis Information and Idaho Proposition 1
DESCRIPTION:Kylee Britzman and Connie Brumm from the Moscow League of Women Voters will be providing our presentation today.
URL:https://unitedchurchofmoscow.com/events/presentation-on-mis-dis-information-and-idaho-proposition-1/
LOCATION:The United Church of Moscow\, 123 W First St.\, Moscow\, ID\, 83843\, United States
END:VEVENT
BEGIN:VEVENT
DTSTART;TZID=America/Los_Angeles:20241006T110000
DTEND;TZID=America/Los_Angeles:20241006T120000
DTSTAMP:20260424T073202
CREATED:20241005T001526Z
LAST-MODIFIED:20241005T001542Z
UID:3167-1728212400-1728216000@unitedchurchofmoscow.com
SUMMARY:Social Awareness Presentation
DESCRIPTION:Dale Gentry will be presenting.
URL:https://unitedchurchofmoscow.com/events/social-awareness-presentation/
LOCATION:The United Church of Moscow\, 123 W First St.\, Moscow\, ID\, 83843\, United States
END:VEVENT
BEGIN:VEVENT
DTSTART;TZID=America/Los_Angeles:20240929T110000
DTEND;TZID=America/Los_Angeles:20240929T120000
DTSTAMP:20260424T073202
CREATED:20240826T004538Z
LAST-MODIFIED:20240829T234729Z
UID:3126-1727607600-1727611200@unitedchurchofmoscow.com
SUMMARY:Hymn Sing
DESCRIPTION:We will enjoy our worship through our traditional 5th Sunday hymn sing.
URL:https://unitedchurchofmoscow.com/events/hymn-sing/
LOCATION:The United Church of Moscow\, 123 W First St.\, Moscow\, ID\, 83843\, United States
END:VEVENT
BEGIN:VEVENT
DTSTART;TZID=America/Los_Angeles:20240922T110000
DTEND;TZID=America/Los_Angeles:20240922T120000
DTSTAMP:20260424T073202
CREATED:20240826T004408Z
LAST-MODIFIED:20240912T204306Z
UID:3124-1727002800-1727006400@unitedchurchofmoscow.com
SUMMARY:Traditional Service
DESCRIPTION:We will observe a traditional service today.
URL:https://unitedchurchofmoscow.com/events/traditional-service-3/
LOCATION:The United Church of Moscow\, 123 W First St.\, Moscow\, ID\, 83843\, United States
END:VEVENT
BEGIN:VEVENT
DTSTART;TZID=America/Los_Angeles:20240915T110000
DTEND;TZID=America/Los_Angeles:20240915T120000
DTSTAMP:20260424T073202
CREATED:20240826T004241Z
LAST-MODIFIED:20240829T234116Z
UID:3122-1726398000-1726401600@unitedchurchofmoscow.com
SUMMARY:Christian Nationalism - Part 2
DESCRIPTION:11:00 AM – Currently planned:  Review and discussion of Christian Nationalism.
URL:https://unitedchurchofmoscow.com/events/christian-nationalism-part-2/
LOCATION:The United Church of Moscow\, 123 W First St.\, Moscow\, ID\, 83843\, United States
END:VEVENT
BEGIN:VEVENT
DTSTART;TZID=America/Los_Angeles:20240908T110000
DTEND;TZID=America/Los_Angeles:20240908T120000
DTSTAMP:20260424T073202
CREATED:20240826T003924Z
LAST-MODIFIED:20240829T234434Z
UID:3120-1725793200-1725796800@unitedchurchofmoscow.com
SUMMARY:Christian Nationalism - Part 1
DESCRIPTION:11:00 AM – Currently planned:  Review and discussion of Christian Nationalism.
URL:https://unitedchurchofmoscow.com/events/christian-nationalism-part-1/
LOCATION:The United Church of Moscow\, 123 W First St.\, Moscow\, ID\, 83843\, United States
END:VEVENT
BEGIN:VEVENT
DTSTART;TZID=America/Los_Angeles:20240908T100000
DTEND;TZID=America/Los_Angeles:20240908T104000
DTSTAMP:20260424T073202
CREATED:20240829T234552Z
LAST-MODIFIED:20240829T234610Z
UID:3139-1725789600-1725792000@unitedchurchofmoscow.com
SUMMARY:Early Worship
DESCRIPTION:10:00 AM – Early Worship
URL:https://unitedchurchofmoscow.com/events/early-worship-2/
LOCATION:ID
END:VEVENT
BEGIN:VEVENT
DTSTART;VALUE=DATE:20240901
DTEND;VALUE=DATE:20240902
DTSTAMP:20260424T073202
CREATED:20240521T014107Z
LAST-MODIFIED:20240521T014116Z
UID:3018-1725148800-1725235199@unitedchurchofmoscow.com
SUMMARY:Service Day (click for more info)
DESCRIPTION:We will not be holding a service in the church today.  Instead\, we invite you to engage in some kind of service act\, no matter how small.
URL:https://unitedchurchofmoscow.com/events/service-day-click-for-more-info-3/
LOCATION:ID
END:VEVENT
BEGIN:VEVENT
DTSTART;TZID=America/Los_Angeles:20240825T100000
DTEND;TZID=America/Los_Angeles:20240825T110000
DTSTAMP:20260424T073202
CREATED:20240521T020030Z
LAST-MODIFIED:20240521T020042Z
UID:3031-1724580000-1724583600@unitedchurchofmoscow.com
SUMMARY:Faith Exploration - "I No Longer Call Myself a Christian"
DESCRIPTION:
URL:https://unitedchurchofmoscow.com/events/faith-exploration-i-no-longer-call-myself-a-christian/
LOCATION:ID
END:VEVENT
BEGIN:VEVENT
DTSTART;TZID=America/Los_Angeles:20240818T100000
DTEND;TZID=America/Los_Angeles:20240818T110000
DTSTAMP:20260424T073202
CREATED:20240521T015652Z
LAST-MODIFIED:20240521T015652Z
UID:3027-1723975200-1723978800@unitedchurchofmoscow.com
SUMMARY:"Believers and Atheists"
DESCRIPTION:Today we explore the 5th in the DVD Series The Spiritual Brain: Science and Religious Experience.
URL:https://unitedchurchofmoscow.com/events/believers-and-atheists/
LOCATION:ID
END:VEVENT
BEGIN:VEVENT
DTSTART;VALUE=DATE:20240811
DTEND;VALUE=DATE:20240812
DTSTAMP:20260424T073202
CREATED:20240521T013935Z
LAST-MODIFIED:20240619T190920Z
UID:3015-1723334400-1723420799@unitedchurchofmoscow.com
SUMMARY:Service Day (click for more info)
DESCRIPTION:We will not be holding a service in the church today.  Instead\, we invite you to engage in some kind of service act\, no matter how small. \nWe are hosting Family Promise this week.
URL:https://unitedchurchofmoscow.com/events/service-day-click-for-more-info-2/
LOCATION:ID
END:VEVENT
BEGIN:VEVENT
DTSTART;TZID=America/Los_Angeles:20240804T100000
DTEND;TZID=America/Los_Angeles:20240804T110000
DTSTAMP:20260424T073202
CREATED:20240521T015912Z
LAST-MODIFIED:20240711T210401Z
UID:3029-1722765600-1722769200@unitedchurchofmoscow.com
SUMMARY:Traditional Service
DESCRIPTION:Stay posted for more information.
URL:https://unitedchurchofmoscow.com/events/traditional-service-with-kristine-zakarison/
LOCATION:ID
END:VEVENT
BEGIN:VEVENT
DTSTART;TZID=America/Los_Angeles:20240728T100000
DTEND;TZID=America/Los_Angeles:20240728T110000
DTSTAMP:20260424T073202
CREATED:20240521T015003Z
LAST-MODIFIED:20240711T210020Z
UID:3024-1722160800-1722164400@unitedchurchofmoscow.com
SUMMARY:Traditional Service at Ghormley Park (click for more info)
DESCRIPTION:Join us at Ghormley Park in Moscow for a Traditional service in this outdoor space.  Check here for specific location and times.
URL:https://unitedchurchofmoscow.com/events/traditional-service-at-kamiak-butte-click-for-more-info/
LOCATION:ID
END:VEVENT
BEGIN:VEVENT
DTSTART;TZID=America/Los_Angeles:20240721T100000
DTEND;TZID=America/Los_Angeles:20240721T110000
DTSTAMP:20260424T073202
CREATED:20240521T014725Z
LAST-MODIFIED:20240521T014733Z
UID:3022-1721556000-1721559600@unitedchurchofmoscow.com
SUMMARY:"How Does Science Study Religion?" (click for more info)
DESCRIPTION:Today we explore the 4th in the DVD Series The Spiritual Brain: Science and Religious Experience.
URL:https://unitedchurchofmoscow.com/events/how-does-science-study-religion-click-for-more-info/
LOCATION:ID
END:VEVENT
BEGIN:VEVENT
DTSTART;TZID=America/Los_Angeles:20240714T100000
DTEND;TZID=America/Los_Angeles:20240714T110000
DTSTAMP:20260424T073202
CREATED:20240521T014524Z
LAST-MODIFIED:20240521T015440Z
UID:3020-1720951200-1720954800@unitedchurchofmoscow.com
SUMMARY:"Brain Function and Religion" (click for more info)
DESCRIPTION:Today we explore the 3rd in the DVD Series The Spiritual Brain: Science and Religious Experience.
URL:https://unitedchurchofmoscow.com/events/brain-function-and-religion-click-for-more-info/
LOCATION:ID
END:VEVENT
BEGIN:VEVENT
DTSTART;VALUE=DATE:20240707
DTEND;VALUE=DATE:20240708
DTSTAMP:20260424T073202
CREATED:20240521T013705Z
LAST-MODIFIED:20240521T013809Z
UID:3012-1720310400-1720396799@unitedchurchofmoscow.com
SUMMARY:Service Day (click for more info)
DESCRIPTION:We will not be holding a service in the church today.  Instead\, we invite you to engage in some kind of service act\, no matter how small.
URL:https://unitedchurchofmoscow.com/events/service-day-click-for-more-info/
LOCATION:ID
END:VEVENT
END:VCALENDAR