BEGIN:VCALENDAR
VERSION:2.0
PRODID:-//The United Church of Moscow - ECPv6.15.20//NONSGML v1.0//EN
CALSCALE:GREGORIAN
METHOD:PUBLISH
X-WR-CALNAME:The United Church of Moscow
X-ORIGINAL-URL:https://unitedchurchofmoscow.com
X-WR-CALDESC:Events for The United Church of Moscow
REFRESH-INTERVAL;VALUE=DURATION:PT1H
X-Robots-Tag:noindex
X-PUBLISHED-TTL:PT1H
BEGIN:VTIMEZONE
TZID:America/Los_Angeles
BEGIN:DAYLIGHT
TZOFFSETFROM:-0800
TZOFFSETTO:-0700
TZNAME:PDT
DTSTART:20220313T100000
END:DAYLIGHT
BEGIN:STANDARD
TZOFFSETFROM:-0700
TZOFFSETTO:-0800
TZNAME:PST
DTSTART:20221106T090000
END:STANDARD
BEGIN:DAYLIGHT
TZOFFSETFROM:-0800
TZOFFSETTO:-0700
TZNAME:PDT
DTSTART:20230312T100000
END:DAYLIGHT
BEGIN:STANDARD
TZOFFSETFROM:-0700
TZOFFSETTO:-0800
TZNAME:PST
DTSTART:20231105T090000
END:STANDARD
BEGIN:DAYLIGHT
TZOFFSETFROM:-0800
TZOFFSETTO:-0700
TZNAME:PDT
DTSTART:20240310T100000
END:DAYLIGHT
BEGIN:STANDARD
TZOFFSETFROM:-0700
TZOFFSETTO:-0800
TZNAME:PST
DTSTART:20241103T090000
END:STANDARD
END:VTIMEZONE
BEGIN:VEVENT
DTSTART;TZID=America/Los_Angeles:20230301T100000
DTEND;TZID=America/Los_Angeles:20230301T170000
DTSTAMP:20260425T080746
CREATED:20230223T173818Z
LAST-MODIFIED:20230223T173818Z
UID:2379-1677664800-1677690000@unitedchurchofmoscow.com
SUMMARY:Palouse Watercolor Socius
DESCRIPTION:
URL:https://unitedchurchofmoscow.com/events/palouse-watercolor-socius-2/
END:VEVENT
BEGIN:VEVENT
DTSTART;TZID=America/Los_Angeles:20230228T173000
DTEND;TZID=America/Los_Angeles:20230228T193000
DTSTAMP:20260425T080746
CREATED:20230201T182631Z
LAST-MODIFIED:20230201T182631Z
UID:2374-1677605400-1677612600@unitedchurchofmoscow.com
SUMMARY:AA Meeting
DESCRIPTION:
URL:https://unitedchurchofmoscow.com/events/aa-meeting-16/
END:VEVENT
BEGIN:VEVENT
DTSTART;TZID=America/Los_Angeles:20230226T110000
DTEND;TZID=America/Los_Angeles:20230226T120000
DTSTAMP:20260425T080746
CREATED:20230201T181811Z
LAST-MODIFIED:20230201T181811Z
UID:2362-1677409200-1677412800@unitedchurchofmoscow.com
SUMMARY:Worship Service
DESCRIPTION:
URL:https://unitedchurchofmoscow.com/events/worship-service-10/
END:VEVENT
BEGIN:VEVENT
DTSTART;TZID=America/Los_Angeles:20230226T093000
DTEND;TZID=America/Los_Angeles:20230226T170000
DTSTAMP:20260425T080746
CREATED:20230201T180331Z
LAST-MODIFIED:20230201T182025Z
UID:2342-1677403800-1677430800@unitedchurchofmoscow.com
SUMMARY:Faith Explorations
DESCRIPTION:
URL:https://unitedchurchofmoscow.com/events/faith-explorations-5/
END:VEVENT
BEGIN:VEVENT
DTSTART;TZID=America/Los_Angeles:20230223T173000
DTEND;TZID=America/Los_Angeles:20230223T193000
DTSTAMP:20260425T080746
CREATED:20230223T181336Z
LAST-MODIFIED:20230223T181336Z
UID:2470-1677173400-1677180600@unitedchurchofmoscow.com
SUMMARY:AA Meeting
DESCRIPTION:
URL:https://unitedchurchofmoscow.com/events/aa-meeting/
END:VEVENT
END:VCALENDAR