BEGIN:VCALENDAR
VERSION:2.0
PRODID:-//The United Church of Moscow - ECPv6.15.20//NONSGML v1.0//EN
CALSCALE:GREGORIAN
METHOD:PUBLISH
X-WR-CALNAME:The United Church of Moscow
X-ORIGINAL-URL:https://unitedchurchofmoscow.com
X-WR-CALDESC:Events for The United Church of Moscow
REFRESH-INTERVAL;VALUE=DURATION:PT1H
X-Robots-Tag:noindex
X-PUBLISHED-TTL:PT1H
BEGIN:VTIMEZONE
TZID:America/Los_Angeles
BEGIN:DAYLIGHT
TZOFFSETFROM:-0800
TZOFFSETTO:-0700
TZNAME:PDT
DTSTART:20250309T100000
END:DAYLIGHT
BEGIN:STANDARD
TZOFFSETFROM:-0700
TZOFFSETTO:-0800
TZNAME:PST
DTSTART:20251102T090000
END:STANDARD
BEGIN:DAYLIGHT
TZOFFSETFROM:-0800
TZOFFSETTO:-0700
TZNAME:PDT
DTSTART:20260308T100000
END:DAYLIGHT
BEGIN:STANDARD
TZOFFSETFROM:-0700
TZOFFSETTO:-0800
TZNAME:PST
DTSTART:20261101T090000
END:STANDARD
BEGIN:DAYLIGHT
TZOFFSETFROM:-0800
TZOFFSETTO:-0700
TZNAME:PDT
DTSTART:20270314T100000
END:DAYLIGHT
BEGIN:STANDARD
TZOFFSETFROM:-0700
TZOFFSETTO:-0800
TZNAME:PST
DTSTART:20271107T090000
END:STANDARD
END:VTIMEZONE
BEGIN:VEVENT
DTSTART;TZID=America/Los_Angeles:20260419T093000
DTEND;TZID=America/Los_Angeles:20260419T103000
DTSTAMP:20260423T162456
CREATED:20260415T045324Z
LAST-MODIFIED:20260415T045324Z
UID:3662-1776591000-1776594600@unitedchurchofmoscow.com
SUMMARY:Faith Exploration
DESCRIPTION:During this week’s Faith Exploration\, we’ll listen to the “Highest Power: Church + State” podcast and discuss how our faith relates to the world around us.
URL:https://unitedchurchofmoscow.com/events/faith-exploration-14/
LOCATION:The United Church of Moscow\, 123 W First St.\, Moscow\, ID\, 83843\, United States
END:VEVENT
BEGIN:VEVENT
DTSTART;TZID=America/Los_Angeles:20260419T110000
DTEND;TZID=America/Los_Angeles:20260419T120000
DTSTAMP:20260423T162456
CREATED:20260208T231335Z
LAST-MODIFIED:20260415T045006Z
UID:3597-1776596400-1776600000@unitedchurchofmoscow.com
SUMMARY:Traditional Worship
DESCRIPTION:We invite you to join us for our Traditional Worship with Pastor Hannah Brown.
URL:https://unitedchurchofmoscow.com/events/traditional-worship-4/
LOCATION:The United Church of Moscow\, 123 W First St.\, Moscow\, ID\, 83843\, United States
END:VEVENT
BEGIN:VEVENT
DTSTART;TZID=America/Los_Angeles:20260426T110000
DTEND;TZID=America/Los_Angeles:20260426T120000
DTSTAMP:20260423T162456
CREATED:20260415T044857Z
LAST-MODIFIED:20260415T044857Z
UID:3660-1777201200-1777204800@unitedchurchofmoscow.com
SUMMARY:The Justice Table Potluck Luncheon
DESCRIPTION:Join our FIRST Justice Table potluck!\nWe’ll be viewing CNN’s documentary\, “The Rise of Christian Nationalism” and will engage in a discussion led by Dale Gentry about what this might mean for us as Christians.\nWhat do you need to bring? YOU and a little something (food dish) to share with the group.
URL:https://unitedchurchofmoscow.com/events/the-justice-table-potluck-luncheon/
LOCATION:The United Church of Moscow\, 123 W First St.\, Moscow\, ID\, 83843\, United States
END:VEVENT
BEGIN:VEVENT
DTSTART;TZID=America/Los_Angeles:20260503T093000
DTEND;TZID=America/Los_Angeles:20260503T103000
DTSTAMP:20260423T162456
CREATED:20260415T045912Z
LAST-MODIFIED:20260415T045912Z
UID:3666-1777800600-1777804200@unitedchurchofmoscow.com
SUMMARY:Faith Exploration
DESCRIPTION:
URL:https://unitedchurchofmoscow.com/events/faith-exploration-15/
LOCATION:The United Church of Moscow\, 123 W First St.\, Moscow\, ID\, 83843\, United States
END:VEVENT
BEGIN:VEVENT
DTSTART;TZID=America/Los_Angeles:20260503T110000
DTEND;TZID=America/Los_Angeles:20260503T120000
DTSTAMP:20260423T162456
CREATED:20260415T050007Z
LAST-MODIFIED:20260415T050007Z
UID:3668-1777806000-1777809600@unitedchurchofmoscow.com
SUMMARY:Worship with Pastor Hannah Brown
DESCRIPTION:
URL:https://unitedchurchofmoscow.com/events/worship-with-pastor-hannah-brown/
LOCATION:The United Church of Moscow\, 123 W First St.\, Moscow\, ID\, 83843\, United States
END:VEVENT
BEGIN:VEVENT
DTSTART;TZID=America/Los_Angeles:20260510T093000
DTEND;TZID=America/Los_Angeles:20260510T103000
DTSTAMP:20260423T162456
CREATED:20260415T051517Z
LAST-MODIFIED:20260415T051517Z
UID:3670-1778405400-1778409000@unitedchurchofmoscow.com
SUMMARY:Faith Exploration
DESCRIPTION:
URL:https://unitedchurchofmoscow.com/events/faith-exploration-16/
LOCATION:The United Church of Moscow\, 123 W First St.\, Moscow\, ID\, 83843\, United States
END:VEVENT
BEGIN:VEVENT
DTSTART;TZID=America/Los_Angeles:20260510T110000
DTEND;TZID=America/Los_Angeles:20260510T120000
DTSTAMP:20260423T162456
CREATED:20260415T051825Z
LAST-MODIFIED:20260415T051825Z
UID:3676-1778410800-1778414400@unitedchurchofmoscow.com
SUMMARY:Worship with Pastor Hannah Brown
DESCRIPTION:
URL:https://unitedchurchofmoscow.com/events/worship-with-pastor-hannah-brown-3/
LOCATION:The United Church of Moscow\, 123 W First St.\, Moscow\, ID\, 83843\, United States
END:VEVENT
BEGIN:VEVENT
DTSTART;TZID=America/Los_Angeles:20260517T093000
DTEND;TZID=America/Los_Angeles:20260517T103000
DTSTAMP:20260423T162456
CREATED:20260415T051741Z
LAST-MODIFIED:20260415T051741Z
UID:3674-1779010200-1779013800@unitedchurchofmoscow.com
SUMMARY:Faith Exploration
DESCRIPTION:
URL:https://unitedchurchofmoscow.com/events/faith-exploration-17/
LOCATION:The United Church of Moscow\, 123 W First St.\, Moscow\, ID\, 83843\, United States
END:VEVENT
BEGIN:VEVENT
DTSTART;TZID=America/Los_Angeles:20260517T110000
DTEND;TZID=America/Los_Angeles:20260517T120000
DTSTAMP:20260423T162456
CREATED:20260415T051916Z
LAST-MODIFIED:20260415T051916Z
UID:3678-1779015600-1779019200@unitedchurchofmoscow.com
SUMMARY:Worship with Pastor Hannah Brown
DESCRIPTION:
URL:https://unitedchurchofmoscow.com/events/worship-with-pastor-hannah-brown-4/
LOCATION:The United Church of Moscow\, 123 W First St.\, Moscow\, ID\, 83843\, United States
END:VEVENT
BEGIN:VEVENT
DTSTART;TZID=America/Los_Angeles:20260524T110000
DTEND;TZID=America/Los_Angeles:20260524T120000
DTSTAMP:20260423T162456
CREATED:20260415T052131Z
LAST-MODIFIED:20260415T052131Z
UID:3680-1779620400-1779624000@unitedchurchofmoscow.com
SUMMARY:The Justice Table Potluck Luncheon
DESCRIPTION:Bring a dish to share and join us for discussion regarding current social justice issues.
URL:https://unitedchurchofmoscow.com/events/the-justice-table-potluck-luncheon-2/
LOCATION:The United Church of Moscow\, 123 W First St.\, Moscow\, ID\, 83843\, United States
END:VEVENT
BEGIN:VEVENT
DTSTART;TZID=America/Los_Angeles:20260531T103000
DTEND;TZID=America/Los_Angeles:20260531T120000
DTSTAMP:20260423T162456
CREATED:20260415T052713Z
LAST-MODIFIED:20260415T052713Z
UID:3682-1780223400-1780228800@unitedchurchofmoscow.com
SUMMARY:Hymn Sing Sunday
DESCRIPTION:Join us for our Worship through song.
URL:https://unitedchurchofmoscow.com/events/hymn-sing-sunday/
LOCATION:The United Church of Moscow\, 123 W First St.\, Moscow\, ID\, 83843\, United States
END:VEVENT
END:VCALENDAR