BEGIN:VCALENDAR
VERSION:2.0
PRODID:-//The United Church of Moscow - ECPv6.15.20//NONSGML v1.0//EN
CALSCALE:GREGORIAN
METHOD:PUBLISH
X-WR-CALNAME:The United Church of Moscow
X-ORIGINAL-URL:https://unitedchurchofmoscow.com
X-WR-CALDESC:Events for The United Church of Moscow
REFRESH-INTERVAL;VALUE=DURATION:PT1H
X-Robots-Tag:noindex
X-PUBLISHED-TTL:PT1H
BEGIN:VTIMEZONE
TZID:America/Los_Angeles
BEGIN:DAYLIGHT
TZOFFSETFROM:-0800
TZOFFSETTO:-0700
TZNAME:PDT
DTSTART:20220313T100000
END:DAYLIGHT
BEGIN:STANDARD
TZOFFSETFROM:-0700
TZOFFSETTO:-0800
TZNAME:PST
DTSTART:20221106T090000
END:STANDARD
BEGIN:DAYLIGHT
TZOFFSETFROM:-0800
TZOFFSETTO:-0700
TZNAME:PDT
DTSTART:20230312T100000
END:DAYLIGHT
BEGIN:STANDARD
TZOFFSETFROM:-0700
TZOFFSETTO:-0800
TZNAME:PST
DTSTART:20231105T090000
END:STANDARD
BEGIN:DAYLIGHT
TZOFFSETFROM:-0800
TZOFFSETTO:-0700
TZNAME:PDT
DTSTART:20240310T100000
END:DAYLIGHT
BEGIN:STANDARD
TZOFFSETFROM:-0700
TZOFFSETTO:-0800
TZNAME:PST
DTSTART:20241103T090000
END:STANDARD
END:VTIMEZONE
BEGIN:VEVENT
DTSTART;TZID=America/Los_Angeles:20230423T093000
DTEND;TZID=America/Los_Angeles:20230423T103000
DTSTAMP:20260425T085844
CREATED:20230223T180045Z
LAST-MODIFIED:20230223T180045Z
UID:2448-1682242200-1682245800@unitedchurchofmoscow.com
SUMMARY:Faith Explorations
DESCRIPTION:
URL:https://unitedchurchofmoscow.com/events/faith-explorations-12/
END:VEVENT
BEGIN:VEVENT
DTSTART;TZID=America/Los_Angeles:20230420T173000
DTEND;TZID=America/Los_Angeles:20230420T193000
DTSTAMP:20260425T085844
CREATED:20230223T180003Z
LAST-MODIFIED:20230223T180003Z
UID:2446-1682011800-1682019000@unitedchurchofmoscow.com
SUMMARY:AA Meeting
DESCRIPTION:
URL:https://unitedchurchofmoscow.com/events/aa-meeting-31/
END:VEVENT
BEGIN:VEVENT
DTSTART;TZID=America/Los_Angeles:20230418T173000
DTEND;TZID=America/Los_Angeles:20230418T193000
DTSTAMP:20260425T085844
CREATED:20230223T175942Z
LAST-MODIFIED:20230223T175942Z
UID:2444-1681839000-1681846200@unitedchurchofmoscow.com
SUMMARY:AA Meeting
DESCRIPTION:
URL:https://unitedchurchofmoscow.com/events/aa-meeting-30/
END:VEVENT
BEGIN:VEVENT
DTSTART;TZID=America/Los_Angeles:20230416T120000
DTEND;TZID=America/Los_Angeles:20230416T130000
DTSTAMP:20260425T085844
CREATED:20230405T165001Z
LAST-MODIFIED:20230405T165001Z
UID:2529-1681646400-1681650000@unitedchurchofmoscow.com
SUMMARY:ANNUAL CONGREGATIONAL MEETING
DESCRIPTION:
URL:https://unitedchurchofmoscow.com/events/annual-congregational-meeting/
END:VEVENT
BEGIN:VEVENT
DTSTART;TZID=America/Los_Angeles:20230416T110000
DTEND;TZID=America/Los_Angeles:20230416T120000
DTSTAMP:20260425T085844
CREATED:20230223T175913Z
LAST-MODIFIED:20230223T175913Z
UID:2442-1681642800-1681646400@unitedchurchofmoscow.com
SUMMARY:Worship Service
DESCRIPTION:
URL:https://unitedchurchofmoscow.com/events/worship-service-17/
END:VEVENT
BEGIN:VEVENT
DTSTART;TZID=America/Los_Angeles:20230416T093000
DTEND;TZID=America/Los_Angeles:20230416T103000
DTSTAMP:20260425T085844
CREATED:20230223T175842Z
LAST-MODIFIED:20230223T175842Z
UID:2440-1681637400-1681641000@unitedchurchofmoscow.com
SUMMARY:Faith Explorations
DESCRIPTION:
URL:https://unitedchurchofmoscow.com/events/faith-explorations-11/
END:VEVENT
BEGIN:VEVENT
DTSTART;TZID=America/Los_Angeles:20230413T173000
DTEND;TZID=America/Los_Angeles:20230413T193000
DTSTAMP:20260425T085844
CREATED:20230223T175802Z
LAST-MODIFIED:20230223T175802Z
UID:2438-1681407000-1681414200@unitedchurchofmoscow.com
SUMMARY:AA Meeting
DESCRIPTION:
URL:https://unitedchurchofmoscow.com/events/aa-meeting-29/
END:VEVENT
BEGIN:VEVENT
DTSTART;TZID=America/Los_Angeles:20230412T190000
DTEND;TZID=America/Los_Angeles:20230412T210000
DTSTAMP:20260425T085844
CREATED:20230223T175738Z
LAST-MODIFIED:20230223T175738Z
UID:2436-1681326000-1681333200@unitedchurchofmoscow.com
SUMMARY:Board of Directors' Meeting
DESCRIPTION:
URL:https://unitedchurchofmoscow.com/events/board-of-directors-meeting-4/
END:VEVENT
BEGIN:VEVENT
DTSTART;TZID=America/Los_Angeles:20230411T173000
DTEND;TZID=America/Los_Angeles:20230411T193000
DTSTAMP:20260425T085844
CREATED:20230223T175643Z
LAST-MODIFIED:20230223T175643Z
UID:2434-1681234200-1681241400@unitedchurchofmoscow.com
SUMMARY:AA Meeting
DESCRIPTION:
URL:https://unitedchurchofmoscow.com/events/aa-meeting-28/
END:VEVENT
BEGIN:VEVENT
DTSTART;TZID=America/Los_Angeles:20230411T133000
DTEND;TZID=America/Los_Angeles:20230411T153000
DTSTAMP:20260425T085844
CREATED:20230223T175612Z
LAST-MODIFIED:20230223T175612Z
UID:2432-1681219800-1681227000@unitedchurchofmoscow.com
SUMMARY:Exploring Aging
DESCRIPTION:
URL:https://unitedchurchofmoscow.com/events/exploring-aging-2/
END:VEVENT
BEGIN:VEVENT
DTSTART;TZID=America/Los_Angeles:20230409T110000
DTEND;TZID=America/Los_Angeles:20230409T120000
DTSTAMP:20260425T085844
CREATED:20230223T175529Z
LAST-MODIFIED:20230223T175529Z
UID:2430-1681038000-1681041600@unitedchurchofmoscow.com
SUMMARY:Worship Service
DESCRIPTION:
URL:https://unitedchurchofmoscow.com/events/worship-service-16/
END:VEVENT
BEGIN:VEVENT
DTSTART;TZID=America/Los_Angeles:20230409T093000
DTEND;TZID=America/Los_Angeles:20230409T103000
DTSTAMP:20260425T085844
CREATED:20230223T175501Z
LAST-MODIFIED:20230223T175501Z
UID:2428-1681032600-1681036200@unitedchurchofmoscow.com
SUMMARY:Faith Exploration
DESCRIPTION:
URL:https://unitedchurchofmoscow.com/events/faith-exploration-3/
END:VEVENT
BEGIN:VEVENT
DTSTART;TZID=America/Los_Angeles:20230406T173000
DTEND;TZID=America/Los_Angeles:20230406T193000
DTSTAMP:20260425T085844
CREATED:20230223T175424Z
LAST-MODIFIED:20230223T175424Z
UID:2426-1680802200-1680809400@unitedchurchofmoscow.com
SUMMARY:AA Meeting
DESCRIPTION:
URL:https://unitedchurchofmoscow.com/events/aa-meeting-27/
END:VEVENT
BEGIN:VEVENT
DTSTART;TZID=America/Los_Angeles:20230405T100000
DTEND;TZID=America/Los_Angeles:20230405T120000
DTSTAMP:20260425T085844
CREATED:20230223T180404Z
LAST-MODIFIED:20230223T180404Z
UID:2458-1680688800-1680696000@unitedchurchofmoscow.com
SUMMARY:Palouse Watercolor Socius
DESCRIPTION:
URL:https://unitedchurchofmoscow.com/events/palouse-watercolor-socius-3/
END:VEVENT
BEGIN:VEVENT
DTSTART;TZID=America/Los_Angeles:20230404T173000
DTEND;TZID=America/Los_Angeles:20230404T193000
DTSTAMP:20260425T085844
CREATED:20230223T175359Z
LAST-MODIFIED:20230223T175359Z
UID:2424-1680629400-1680636600@unitedchurchofmoscow.com
SUMMARY:AA Meeting
DESCRIPTION:
URL:https://unitedchurchofmoscow.com/events/aa-meeting-26/
END:VEVENT
BEGIN:VEVENT
DTSTART;TZID=America/Los_Angeles:20230402T110000
DTEND;TZID=America/Los_Angeles:20230402T120000
DTSTAMP:20260425T085844
CREATED:20230223T175327Z
LAST-MODIFIED:20230223T175327Z
UID:2422-1680433200-1680436800@unitedchurchofmoscow.com
SUMMARY:Worship Service
DESCRIPTION:
URL:https://unitedchurchofmoscow.com/events/worship-service-15/
END:VEVENT
BEGIN:VEVENT
DTSTART;TZID=America/Los_Angeles:20230402T093000
DTEND;TZID=America/Los_Angeles:20230402T103000
DTSTAMP:20260425T085844
CREATED:20230223T175201Z
LAST-MODIFIED:20230223T175243Z
UID:2419-1680427800-1680431400@unitedchurchofmoscow.com
SUMMARY:Faith Explorations
DESCRIPTION:
URL:https://unitedchurchofmoscow.com/events/aa-meeting-25/
END:VEVENT
BEGIN:VEVENT
DTSTART;TZID=America/Los_Angeles:20230330T173000
DTEND;TZID=America/Los_Angeles:20230330T193000
DTSTAMP:20260425T085844
CREATED:20230223T181544Z
LAST-MODIFIED:20230223T181544Z
UID:2472-1680197400-1680204600@unitedchurchofmoscow.com
SUMMARY:AA Meeting
DESCRIPTION:
URL:https://unitedchurchofmoscow.com/events/aa-meeting-2/
END:VEVENT
BEGIN:VEVENT
DTSTART;TZID=America/Los_Angeles:20230328T173000
DTEND;TZID=America/Los_Angeles:20230328T193000
DTSTAMP:20260425T085844
CREATED:20230223T175135Z
LAST-MODIFIED:20230223T175135Z
UID:2417-1680024600-1680031800@unitedchurchofmoscow.com
SUMMARY:AA Meeting
DESCRIPTION:
URL:https://unitedchurchofmoscow.com/events/aa-meeting-24/
END:VEVENT
BEGIN:VEVENT
DTSTART;TZID=America/Los_Angeles:20230326T110000
DTEND;TZID=America/Los_Angeles:20230326T120000
DTSTAMP:20260425T085844
CREATED:20230223T175108Z
LAST-MODIFIED:20230223T175108Z
UID:2415-1679828400-1679832000@unitedchurchofmoscow.com
SUMMARY:Worship Service
DESCRIPTION:
URL:https://unitedchurchofmoscow.com/events/worship-service-14/
END:VEVENT
BEGIN:VEVENT
DTSTART;TZID=America/Los_Angeles:20230326T093000
DTEND;TZID=America/Los_Angeles:20230326T103000
DTSTAMP:20260425T085844
CREATED:20230223T175030Z
LAST-MODIFIED:20230223T175039Z
UID:2413-1679823000-1679826600@unitedchurchofmoscow.com
SUMMARY:Faith Explorations
DESCRIPTION:
URL:https://unitedchurchofmoscow.com/events/faith-explorations-10/
END:VEVENT
BEGIN:VEVENT
DTSTART;TZID=America/Los_Angeles:20230323T173000
DTEND;TZID=America/Los_Angeles:20230323T193000
DTSTAMP:20260425T085844
CREATED:20230223T174957Z
LAST-MODIFIED:20230223T174957Z
UID:2411-1679592600-1679599800@unitedchurchofmoscow.com
SUMMARY:AA Meeting
DESCRIPTION:
URL:https://unitedchurchofmoscow.com/events/aa-meeting-23/
END:VEVENT
BEGIN:VEVENT
DTSTART;TZID=America/Los_Angeles:20230322T190000
DTEND;TZID=America/Los_Angeles:20230322T210000
DTSTAMP:20260425T085844
CREATED:20230223T174920Z
LAST-MODIFIED:20230223T174920Z
UID:2409-1679511600-1679518800@unitedchurchofmoscow.com
SUMMARY:Elders'/Deacons' Meeting
DESCRIPTION:
URL:https://unitedchurchofmoscow.com/events/elders-deacons-meeting-2/
END:VEVENT
BEGIN:VEVENT
DTSTART;TZID=America/Los_Angeles:20230321T173000
DTEND;TZID=America/Los_Angeles:20230321T193000
DTSTAMP:20260425T085844
CREATED:20230223T174841Z
LAST-MODIFIED:20230223T174841Z
UID:2407-1679419800-1679427000@unitedchurchofmoscow.com
SUMMARY:AA Meeting
DESCRIPTION:
URL:https://unitedchurchofmoscow.com/events/aa-meeting-22/
END:VEVENT
BEGIN:VEVENT
DTSTART;TZID=America/Los_Angeles:20230319T110000
DTEND;TZID=America/Los_Angeles:20230319T120000
DTSTAMP:20260425T085844
CREATED:20230223T174811Z
LAST-MODIFIED:20230223T174811Z
UID:2405-1679223600-1679227200@unitedchurchofmoscow.com
SUMMARY:Worship Service
DESCRIPTION:Worship
URL:https://unitedchurchofmoscow.com/events/worship-service-13/
END:VEVENT
BEGIN:VEVENT
DTSTART;TZID=America/Los_Angeles:20230319T093000
DTEND;TZID=America/Los_Angeles:20230319T103000
DTSTAMP:20260425T085844
CREATED:20230223T174740Z
LAST-MODIFIED:20230223T174740Z
UID:2403-1679218200-1679221800@unitedchurchofmoscow.com
SUMMARY:Faith Explorations
DESCRIPTION:
URL:https://unitedchurchofmoscow.com/events/faith-explorations-9/
END:VEVENT
BEGIN:VEVENT
DTSTART;TZID=America/Los_Angeles:20230316T173000
DTEND;TZID=America/Los_Angeles:20230316T193000
DTSTAMP:20260425T085844
CREATED:20230223T174617Z
LAST-MODIFIED:20230223T174617Z
UID:2399-1678987800-1678995000@unitedchurchofmoscow.com
SUMMARY:AA Meeting
DESCRIPTION:
URL:https://unitedchurchofmoscow.com/events/aa-meeting-21/
END:VEVENT
BEGIN:VEVENT
DTSTART;TZID=America/Los_Angeles:20230314T173000
DTEND;TZID=America/Los_Angeles:20230314T193000
DTSTAMP:20260425T085844
CREATED:20230223T174543Z
LAST-MODIFIED:20230223T174543Z
UID:2397-1678815000-1678822200@unitedchurchofmoscow.com
SUMMARY:AA Meeting
DESCRIPTION:
URL:https://unitedchurchofmoscow.com/events/aa-meeting-20/
END:VEVENT
BEGIN:VEVENT
DTSTART;TZID=America/Los_Angeles:20230314T133000
DTEND;TZID=America/Los_Angeles:20230314T153000
DTSTAMP:20260425T085844
CREATED:20230223T174655Z
LAST-MODIFIED:20230223T174655Z
UID:2401-1678800600-1678807800@unitedchurchofmoscow.com
SUMMARY:Exploring Aging
DESCRIPTION:
URL:https://unitedchurchofmoscow.com/events/exploring-aging/
END:VEVENT
BEGIN:VEVENT
DTSTART;TZID=America/Los_Angeles:20230312T110000
DTEND;TZID=America/Los_Angeles:20230312T120000
DTSTAMP:20260425T085844
CREATED:20230223T174507Z
LAST-MODIFIED:20230223T174507Z
UID:2395-1678618800-1678622400@unitedchurchofmoscow.com
SUMMARY:Worship Service
DESCRIPTION:
URL:https://unitedchurchofmoscow.com/events/worship-service-12/
END:VEVENT
END:VCALENDAR