BEGIN:VCALENDAR
VERSION:2.0
PRODID:-//The United Church of Moscow - ECPv6.15.20//NONSGML v1.0//EN
CALSCALE:GREGORIAN
METHOD:PUBLISH
X-WR-CALNAME:The United Church of Moscow
X-ORIGINAL-URL:https://unitedchurchofmoscow.com
X-WR-CALDESC:Events for The United Church of Moscow
REFRESH-INTERVAL;VALUE=DURATION:PT1H
X-Robots-Tag:noindex
X-PUBLISHED-TTL:PT1H
BEGIN:VTIMEZONE
TZID:America/Los_Angeles
BEGIN:DAYLIGHT
TZOFFSETFROM:-0800
TZOFFSETTO:-0700
TZNAME:PDT
DTSTART:20220313T100000
END:DAYLIGHT
BEGIN:STANDARD
TZOFFSETFROM:-0700
TZOFFSETTO:-0800
TZNAME:PST
DTSTART:20221106T090000
END:STANDARD
BEGIN:DAYLIGHT
TZOFFSETFROM:-0800
TZOFFSETTO:-0700
TZNAME:PDT
DTSTART:20230312T100000
END:DAYLIGHT
BEGIN:STANDARD
TZOFFSETFROM:-0700
TZOFFSETTO:-0800
TZNAME:PST
DTSTART:20231105T090000
END:STANDARD
BEGIN:DAYLIGHT
TZOFFSETFROM:-0800
TZOFFSETTO:-0700
TZNAME:PDT
DTSTART:20240310T100000
END:DAYLIGHT
BEGIN:STANDARD
TZOFFSETFROM:-0700
TZOFFSETTO:-0800
TZNAME:PST
DTSTART:20241103T090000
END:STANDARD
END:VTIMEZONE
BEGIN:VEVENT
DTSTART;TZID=America/Los_Angeles:20230530T173000
DTEND;TZID=America/Los_Angeles:20230530T193000
DTSTAMP:20260425T071058
CREATED:20230223T190815Z
LAST-MODIFIED:20230223T190815Z
UID:2510-1685467800-1685475000@unitedchurchofmoscow.com
SUMMARY:AA Meeting
DESCRIPTION:
URL:https://unitedchurchofmoscow.com/events/aa-meeting-9/
END:VEVENT
BEGIN:VEVENT
DTSTART;TZID=America/Los_Angeles:20230528T110000
DTEND;TZID=America/Los_Angeles:20230528T120000
DTSTAMP:20260425T071058
CREATED:20230223T190743Z
LAST-MODIFIED:20230503T143037Z
UID:2508-1685271600-1685275200@unitedchurchofmoscow.com
SUMMARY:No Service Memorial Day weekend
DESCRIPTION:
URL:https://unitedchurchofmoscow.com/events/worship-service-4/
END:VEVENT
BEGIN:VEVENT
DTSTART;TZID=America/Los_Angeles:20230525T173000
DTEND;TZID=America/Los_Angeles:20230525T193000
DTSTAMP:20260425T071058
CREATED:20230223T190632Z
LAST-MODIFIED:20230223T190632Z
UID:2504-1685035800-1685043000@unitedchurchofmoscow.com
SUMMARY:AA Meeting
DESCRIPTION:
URL:https://unitedchurchofmoscow.com/events/aa-meeting-8/
END:VEVENT
BEGIN:VEVENT
DTSTART;TZID=America/Los_Angeles:20230524T190000
DTEND;TZID=America/Los_Angeles:20230524T210000
DTSTAMP:20260425T071058
CREATED:20230223T190547Z
LAST-MODIFIED:20230223T190547Z
UID:2502-1684954800-1684962000@unitedchurchofmoscow.com
SUMMARY:Elders'/Deacons' Meeting
DESCRIPTION:
URL:https://unitedchurchofmoscow.com/events/elders-deacons-meeting/
END:VEVENT
BEGIN:VEVENT
DTSTART;TZID=America/Los_Angeles:20230523T173000
DTEND;TZID=America/Los_Angeles:20230523T193000
DTSTAMP:20260425T071058
CREATED:20230223T190100Z
LAST-MODIFIED:20230223T190100Z
UID:2499-1684863000-1684870200@unitedchurchofmoscow.com
SUMMARY:AA Meeting
DESCRIPTION:
URL:https://unitedchurchofmoscow.com/events/aa-meeting-7/
END:VEVENT
BEGIN:VEVENT
DTSTART;TZID=America/Los_Angeles:20230521T110000
DTEND;TZID=America/Los_Angeles:20230521T120000
DTSTAMP:20260425T071058
CREATED:20230223T190026Z
LAST-MODIFIED:20230503T143201Z
UID:2497-1684666800-1684670400@unitedchurchofmoscow.com
SUMMARY:Worship Service: Outdoor Service with “church camp” theme and singing
DESCRIPTION:
URL:https://unitedchurchofmoscow.com/events/worship-service-3/
END:VEVENT
BEGIN:VEVENT
DTSTART;TZID=America/Los_Angeles:20230518T173000
DTEND;TZID=America/Los_Angeles:20230518T193000
DTSTAMP:20260425T071058
CREATED:20230223T185910Z
LAST-MODIFIED:20230223T185910Z
UID:2493-1684431000-1684438200@unitedchurchofmoscow.com
SUMMARY:AA Meeting
DESCRIPTION:
URL:https://unitedchurchofmoscow.com/events/aa-meeting-6/
END:VEVENT
BEGIN:VEVENT
DTSTART;TZID=America/Los_Angeles:20230516T173000
DTEND;TZID=America/Los_Angeles:20230516T193000
DTSTAMP:20260425T071058
CREATED:20230223T185839Z
LAST-MODIFIED:20230223T185839Z
UID:2491-1684258200-1684265400@unitedchurchofmoscow.com
SUMMARY:AA Meeting
DESCRIPTION:
URL:https://unitedchurchofmoscow.com/events/aa-meeting-5/
END:VEVENT
BEGIN:VEVENT
DTSTART;TZID=America/Los_Angeles:20230514T110000
DTEND;TZID=America/Los_Angeles:20230514T120000
DTSTAMP:20260425T071058
CREATED:20230223T185812Z
LAST-MODIFIED:20230503T143309Z
UID:2489-1684062000-1684065600@unitedchurchofmoscow.com
SUMMARY:Worship Service: Mother’s Day theme: Eneida Larti\, UI music professor\, will offer a program of music
DESCRIPTION:
URL:https://unitedchurchofmoscow.com/events/worship-service-2/
END:VEVENT
BEGIN:VEVENT
DTSTART;TZID=America/Los_Angeles:20230514T093000
DTEND;TZID=America/Los_Angeles:20230514T103000
DTSTAMP:20260425T071058
CREATED:20230223T185742Z
LAST-MODIFIED:20230223T185742Z
UID:2487-1684056600-1684060200@unitedchurchofmoscow.com
SUMMARY:Faith Exploratins
DESCRIPTION:
URL:https://unitedchurchofmoscow.com/events/faith-exploratins/
END:VEVENT
BEGIN:VEVENT
DTSTART;TZID=America/Los_Angeles:20230511T173000
DTEND;TZID=America/Los_Angeles:20230511T193000
DTSTAMP:20260425T071058
CREATED:20230223T185702Z
LAST-MODIFIED:20230223T185702Z
UID:2485-1683826200-1683833400@unitedchurchofmoscow.com
SUMMARY:AA Meeting
DESCRIPTION:
URL:https://unitedchurchofmoscow.com/events/aa-meeting-4/
END:VEVENT
BEGIN:VEVENT
DTSTART;TZID=America/Los_Angeles:20230510T190000
DTEND;TZID=America/Los_Angeles:20230510T210000
DTSTAMP:20260425T071058
CREATED:20230223T185634Z
LAST-MODIFIED:20230223T185634Z
UID:2483-1683745200-1683752400@unitedchurchofmoscow.com
SUMMARY:Board of Directors' Meeting
DESCRIPTION:
URL:https://unitedchurchofmoscow.com/events/board-of-directors-meeting/
END:VEVENT
BEGIN:VEVENT
DTSTART;TZID=America/Los_Angeles:20230509T173000
DTEND;TZID=America/Los_Angeles:20230509T193000
DTSTAMP:20260425T071058
CREATED:20230223T185556Z
LAST-MODIFIED:20230223T185556Z
UID:2481-1683653400-1683660600@unitedchurchofmoscow.com
SUMMARY:AA Meeting
DESCRIPTION:
URL:https://unitedchurchofmoscow.com/events/aa-meeting-3/
END:VEVENT
BEGIN:VEVENT
DTSTART;TZID=America/Los_Angeles:20230507T110000
DTEND;TZID=America/Los_Angeles:20230507T120000
DTSTAMP:20260425T071058
CREATED:20230223T185325Z
LAST-MODIFIED:20230223T185325Z
UID:2474-1683457200-1683460800@unitedchurchofmoscow.com
SUMMARY:Worship Service
DESCRIPTION:
URL:https://unitedchurchofmoscow.com/events/worship-service/
END:VEVENT
BEGIN:VEVENT
DTSTART;TZID=America/Los_Angeles:20230504T173000
DTEND;TZID=America/Los_Angeles:20230504T193000
DTSTAMP:20260425T071058
CREATED:20230223T180729Z
LAST-MODIFIED:20230223T180729Z
UID:2468-1683221400-1683228600@unitedchurchofmoscow.com
SUMMARY:AA Meeting
DESCRIPTION:
URL:https://unitedchurchofmoscow.com/events/aa-meeting-35/
END:VEVENT
BEGIN:VEVENT
DTSTART;TZID=America/Los_Angeles:20230503T100000
DTEND;TZID=America/Los_Angeles:20230503T120000
DTSTAMP:20260425T071058
CREATED:20230223T180659Z
LAST-MODIFIED:20230223T180659Z
UID:2466-1683108000-1683115200@unitedchurchofmoscow.com
SUMMARY:Palouse Watercolor Socius
DESCRIPTION:
URL:https://unitedchurchofmoscow.com/events/palouse-watercolor-socius-4/
END:VEVENT
BEGIN:VEVENT
DTSTART;TZID=America/Los_Angeles:20230502T173000
DTEND;TZID=America/Los_Angeles:20230502T193000
DTSTAMP:20260425T071058
CREATED:20230223T180630Z
LAST-MODIFIED:20230223T180630Z
UID:2464-1683048600-1683055800@unitedchurchofmoscow.com
SUMMARY:AA Meeting
DESCRIPTION:
URL:https://unitedchurchofmoscow.com/events/aa-meeting-34/
END:VEVENT
BEGIN:VEVENT
DTSTART;TZID=America/Los_Angeles:20230430T110000
DTEND;TZID=America/Los_Angeles:20230430T120000
DTSTAMP:20260425T071058
CREATED:20230223T180557Z
LAST-MODIFIED:20230223T180557Z
UID:2462-1682852400-1682856000@unitedchurchofmoscow.com
SUMMARY:Worship Service
DESCRIPTION:
URL:https://unitedchurchofmoscow.com/events/worship-service-19/
END:VEVENT
BEGIN:VEVENT
DTSTART;TZID=America/Los_Angeles:20230430T093000
DTEND;TZID=America/Los_Angeles:20230430T170000
DTSTAMP:20260425T071058
CREATED:20230223T180526Z
LAST-MODIFIED:20230223T180526Z
UID:2460-1682847000-1682874000@unitedchurchofmoscow.com
SUMMARY:Faith Explorations
DESCRIPTION:
URL:https://unitedchurchofmoscow.com/events/faith-explorations-13/
END:VEVENT
BEGIN:VEVENT
DTSTART;TZID=America/Los_Angeles:20230427T173000
DTEND;TZID=America/Los_Angeles:20230427T193000
DTSTAMP:20260425T071058
CREATED:20230223T180257Z
LAST-MODIFIED:20230223T180257Z
UID:2456-1682616600-1682623800@unitedchurchofmoscow.com
SUMMARY:AA Meeting
DESCRIPTION:
URL:https://unitedchurchofmoscow.com/events/aa-meeting-33/
END:VEVENT
BEGIN:VEVENT
DTSTART;TZID=America/Los_Angeles:20230426T190000
DTEND;TZID=America/Los_Angeles:20230426T210000
DTSTAMP:20260425T071058
CREATED:20230223T180226Z
LAST-MODIFIED:20230223T180226Z
UID:2454-1682535600-1682542800@unitedchurchofmoscow.com
SUMMARY:Elders'/Deacons' Meeting
DESCRIPTION:
URL:https://unitedchurchofmoscow.com/events/elders-deacons-meeting-3/
END:VEVENT
BEGIN:VEVENT
DTSTART;TZID=America/Los_Angeles:20230425T173000
DTEND;TZID=America/Los_Angeles:20230425T193000
DTSTAMP:20260425T071058
CREATED:20230223T180146Z
LAST-MODIFIED:20230223T180146Z
UID:2452-1682443800-1682451000@unitedchurchofmoscow.com
SUMMARY:AA Meeting
DESCRIPTION:
URL:https://unitedchurchofmoscow.com/events/aa-meeting-32/
END:VEVENT
BEGIN:VEVENT
DTSTART;TZID=America/Los_Angeles:20230423T110000
DTEND;TZID=America/Los_Angeles:20230423T120000
DTSTAMP:20260425T071058
CREATED:20230223T180111Z
LAST-MODIFIED:20230223T180111Z
UID:2450-1682247600-1682251200@unitedchurchofmoscow.com
SUMMARY:Worship Service
DESCRIPTION:
URL:https://unitedchurchofmoscow.com/events/worship-service-18/
END:VEVENT
BEGIN:VEVENT
DTSTART;TZID=America/Los_Angeles:20230423T093000
DTEND;TZID=America/Los_Angeles:20230423T103000
DTSTAMP:20260425T071058
CREATED:20230223T180045Z
LAST-MODIFIED:20230223T180045Z
UID:2448-1682242200-1682245800@unitedchurchofmoscow.com
SUMMARY:Faith Explorations
DESCRIPTION:
URL:https://unitedchurchofmoscow.com/events/faith-explorations-12/
END:VEVENT
BEGIN:VEVENT
DTSTART;TZID=America/Los_Angeles:20230420T173000
DTEND;TZID=America/Los_Angeles:20230420T193000
DTSTAMP:20260425T071058
CREATED:20230223T180003Z
LAST-MODIFIED:20230223T180003Z
UID:2446-1682011800-1682019000@unitedchurchofmoscow.com
SUMMARY:AA Meeting
DESCRIPTION:
URL:https://unitedchurchofmoscow.com/events/aa-meeting-31/
END:VEVENT
BEGIN:VEVENT
DTSTART;TZID=America/Los_Angeles:20230418T173000
DTEND;TZID=America/Los_Angeles:20230418T193000
DTSTAMP:20260425T071058
CREATED:20230223T175942Z
LAST-MODIFIED:20230223T175942Z
UID:2444-1681839000-1681846200@unitedchurchofmoscow.com
SUMMARY:AA Meeting
DESCRIPTION:
URL:https://unitedchurchofmoscow.com/events/aa-meeting-30/
END:VEVENT
BEGIN:VEVENT
DTSTART;TZID=America/Los_Angeles:20230416T120000
DTEND;TZID=America/Los_Angeles:20230416T130000
DTSTAMP:20260425T071058
CREATED:20230405T165001Z
LAST-MODIFIED:20230405T165001Z
UID:2529-1681646400-1681650000@unitedchurchofmoscow.com
SUMMARY:ANNUAL CONGREGATIONAL MEETING
DESCRIPTION:
URL:https://unitedchurchofmoscow.com/events/annual-congregational-meeting/
END:VEVENT
BEGIN:VEVENT
DTSTART;TZID=America/Los_Angeles:20230416T110000
DTEND;TZID=America/Los_Angeles:20230416T120000
DTSTAMP:20260425T071058
CREATED:20230223T175913Z
LAST-MODIFIED:20230223T175913Z
UID:2442-1681642800-1681646400@unitedchurchofmoscow.com
SUMMARY:Worship Service
DESCRIPTION:
URL:https://unitedchurchofmoscow.com/events/worship-service-17/
END:VEVENT
BEGIN:VEVENT
DTSTART;TZID=America/Los_Angeles:20230416T093000
DTEND;TZID=America/Los_Angeles:20230416T103000
DTSTAMP:20260425T071058
CREATED:20230223T175842Z
LAST-MODIFIED:20230223T175842Z
UID:2440-1681637400-1681641000@unitedchurchofmoscow.com
SUMMARY:Faith Explorations
DESCRIPTION:
URL:https://unitedchurchofmoscow.com/events/faith-explorations-11/
END:VEVENT
BEGIN:VEVENT
DTSTART;TZID=America/Los_Angeles:20230413T173000
DTEND;TZID=America/Los_Angeles:20230413T193000
DTSTAMP:20260425T071058
CREATED:20230223T175802Z
LAST-MODIFIED:20230223T175802Z
UID:2438-1681407000-1681414200@unitedchurchofmoscow.com
SUMMARY:AA Meeting
DESCRIPTION:
URL:https://unitedchurchofmoscow.com/events/aa-meeting-29/
END:VEVENT
END:VCALENDAR