BEGIN:VCALENDAR
VERSION:2.0
PRODID:-//The United Church of Moscow - ECPv6.15.20//NONSGML v1.0//EN
CALSCALE:GREGORIAN
METHOD:PUBLISH
X-WR-CALNAME:The United Church of Moscow
X-ORIGINAL-URL:https://unitedchurchofmoscow.com
X-WR-CALDESC:Events for The United Church of Moscow
REFRESH-INTERVAL;VALUE=DURATION:PT1H
X-Robots-Tag:noindex
X-PUBLISHED-TTL:PT1H
BEGIN:VTIMEZONE
TZID:America/Los_Angeles
BEGIN:DAYLIGHT
TZOFFSETFROM:-0800
TZOFFSETTO:-0700
TZNAME:PDT
DTSTART:20220313T100000
END:DAYLIGHT
BEGIN:STANDARD
TZOFFSETFROM:-0700
TZOFFSETTO:-0800
TZNAME:PST
DTSTART:20221106T090000
END:STANDARD
BEGIN:DAYLIGHT
TZOFFSETFROM:-0800
TZOFFSETTO:-0700
TZNAME:PDT
DTSTART:20230312T100000
END:DAYLIGHT
BEGIN:STANDARD
TZOFFSETFROM:-0700
TZOFFSETTO:-0800
TZNAME:PST
DTSTART:20231105T090000
END:STANDARD
BEGIN:DAYLIGHT
TZOFFSETFROM:-0800
TZOFFSETTO:-0700
TZNAME:PDT
DTSTART:20240310T100000
END:DAYLIGHT
BEGIN:STANDARD
TZOFFSETFROM:-0700
TZOFFSETTO:-0800
TZNAME:PST
DTSTART:20241103T090000
END:STANDARD
END:VTIMEZONE
BEGIN:VEVENT
DTSTART;TZID=America/Los_Angeles:20230705T100000
DTEND;TZID=America/Los_Angeles:20230705T120000
DTSTAMP:20260425T044927
CREATED:20230412T164949Z
LAST-MODIFIED:20230412T164949Z
UID:2574-1688551200-1688558400@unitedchurchofmoscow.com
SUMMARY:Palouse Watercolor Socious
DESCRIPTION:
URL:https://unitedchurchofmoscow.com/events/palouse-watercolor-socious/
END:VEVENT
BEGIN:VEVENT
DTSTART;TZID=America/Los_Angeles:20230704T173000
DTEND;TZID=America/Los_Angeles:20230704T193000
DTSTAMP:20260425T044927
CREATED:20230412T164916Z
LAST-MODIFIED:20230412T164916Z
UID:2572-1688491800-1688499000@unitedchurchofmoscow.com
SUMMARY:AA Meeting
DESCRIPTION:
URL:https://unitedchurchofmoscow.com/events/aa-meeting-39/
END:VEVENT
BEGIN:VEVENT
DTSTART;TZID=America/Los_Angeles:20230702T110000
DTEND;TZID=America/Los_Angeles:20230702T120000
DTSTAMP:20260425T044927
CREATED:20230412T171613Z
LAST-MODIFIED:20230412T171613Z
UID:2659-1688295600-1688299200@unitedchurchofmoscow.com
SUMMARY:Worship Service
DESCRIPTION:
URL:https://unitedchurchofmoscow.com/events/worship-service-27/
END:VEVENT
BEGIN:VEVENT
DTSTART;TZID=America/Los_Angeles:20230629T173000
DTEND;TZID=America/Los_Angeles:20230629T193000
DTSTAMP:20260425T044927
CREATED:20230412T164757Z
LAST-MODIFIED:20230412T164757Z
UID:2570-1688059800-1688067000@unitedchurchofmoscow.com
SUMMARY:AA Meeting
DESCRIPTION:
URL:https://unitedchurchofmoscow.com/events/aa-meeting-38/
END:VEVENT
BEGIN:VEVENT
DTSTART;TZID=America/Los_Angeles:20230628T190000
DTEND;TZID=America/Los_Angeles:20230628T210000
DTSTAMP:20260425T044927
CREATED:20230412T164729Z
LAST-MODIFIED:20230412T164729Z
UID:2568-1687978800-1687986000@unitedchurchofmoscow.com
SUMMARY:Elders'/Deacons Meeting
DESCRIPTION:
URL:https://unitedchurchofmoscow.com/events/elders-deacons-meeting-4/
END:VEVENT
BEGIN:VEVENT
DTSTART;TZID=America/Los_Angeles:20230627T173000
DTEND;TZID=America/Los_Angeles:20230627T193000
DTSTAMP:20260425T044927
CREATED:20230412T164646Z
LAST-MODIFIED:20230412T164646Z
UID:2566-1687887000-1687894200@unitedchurchofmoscow.com
SUMMARY:AA Meeting
DESCRIPTION:
URL:https://unitedchurchofmoscow.com/events/aa-meeting-37/
END:VEVENT
BEGIN:VEVENT
DTSTART;TZID=America/Los_Angeles:20230625T110000
DTEND;TZID=America/Los_Angeles:20230625T120000
DTSTAMP:20260425T044927
CREATED:20230412T163839Z
LAST-MODIFIED:20230608T165644Z
UID:2545-1687690800-1687694400@unitedchurchofmoscow.com
SUMMARY:Worship Service at Ghormley Park
DESCRIPTION:
URL:https://unitedchurchofmoscow.com/events/worship-service-8/
END:VEVENT
BEGIN:VEVENT
DTSTART;TZID=America/Los_Angeles:20230622T173000
DTEND;TZID=America/Los_Angeles:20230622T193000
DTSTAMP:20260425T044927
CREATED:20230412T164623Z
LAST-MODIFIED:20230412T164623Z
UID:2564-1687455000-1687462200@unitedchurchofmoscow.com
SUMMARY:AA Meeting
DESCRIPTION:
URL:https://unitedchurchofmoscow.com/events/aa-meeting-36/
END:VEVENT
BEGIN:VEVENT
DTSTART;TZID=America/Los_Angeles:20230620T173000
DTEND;TZID=America/Los_Angeles:20230620T193000
DTSTAMP:20260425T044927
CREATED:20230412T164601Z
LAST-MODIFIED:20230412T164601Z
UID:2562-1687282200-1687289400@unitedchurchofmoscow.com
SUMMARY:AA Meeting
DESCRIPTION:
URL:https://unitedchurchofmoscow.com/events/aa-meeting-15/
END:VEVENT
BEGIN:VEVENT
DTSTART;TZID=America/Los_Angeles:20230618T110000
DTEND;TZID=America/Los_Angeles:20230618T120000
DTSTAMP:20260425T044927
CREATED:20230412T163812Z
LAST-MODIFIED:20230412T164036Z
UID:2543-1687086000-1687089600@unitedchurchofmoscow.com
SUMMARY:Worship Service
DESCRIPTION:
URL:https://unitedchurchofmoscow.com/events/worship-service-7/
END:VEVENT
BEGIN:VEVENT
DTSTART;TZID=America/Los_Angeles:20230615T173000
DTEND;TZID=America/Los_Angeles:20230615T193000
DTSTAMP:20260425T044927
CREATED:20230412T164534Z
LAST-MODIFIED:20230412T164534Z
UID:2560-1686850200-1686857400@unitedchurchofmoscow.com
SUMMARY:AA Meeting
DESCRIPTION:
URL:https://unitedchurchofmoscow.com/events/aa-meeting-14/
END:VEVENT
BEGIN:VEVENT
DTSTART;TZID=America/Los_Angeles:20230615T160000
DTEND;TZID=America/Los_Angeles:20230615T200000
DTSTAMP:20260425T044927
CREATED:20230608T165403Z
LAST-MODIFIED:20230608T165403Z
UID:2685-1686844800-1686859200@unitedchurchofmoscow.com
SUMMARY:Palouse Watercolor Socius during Moscow’s Art Walk
DESCRIPTION:
URL:https://unitedchurchofmoscow.com/events/palouse-watercolor-socius-during-moscows-art-walk/
END:VEVENT
BEGIN:VEVENT
DTSTART;TZID=America/Los_Angeles:20230614T190000
DTEND;TZID=America/Los_Angeles:20230614T210000
DTSTAMP:20260425T044927
CREATED:20230412T164509Z
LAST-MODIFIED:20230412T164509Z
UID:2558-1686769200-1686776400@unitedchurchofmoscow.com
SUMMARY:Board of Directors Meeting
DESCRIPTION:
URL:https://unitedchurchofmoscow.com/events/board-of-directors-meeting-2/
END:VEVENT
BEGIN:VEVENT
DTSTART;TZID=America/Los_Angeles:20230613T173000
DTEND;TZID=America/Los_Angeles:20230613T193000
DTSTAMP:20260425T044927
CREATED:20230412T164437Z
LAST-MODIFIED:20230412T164437Z
UID:2556-1686677400-1686684600@unitedchurchofmoscow.com
SUMMARY:AA Meeting
DESCRIPTION:
URL:https://unitedchurchofmoscow.com/events/aa-meeting-13/
END:VEVENT
BEGIN:VEVENT
DTSTART;TZID=America/Los_Angeles:20230611T110000
DTEND;TZID=America/Los_Angeles:20230611T120000
DTSTAMP:20260425T044927
CREATED:20230412T163747Z
LAST-MODIFIED:20230608T165540Z
UID:2541-1686481200-1686484800@unitedchurchofmoscow.com
SUMMARY:Worship Service - Meet at the Arboretum
DESCRIPTION:
URL:https://unitedchurchofmoscow.com/events/worship-service-6/
END:VEVENT
BEGIN:VEVENT
DTSTART;TZID=America/Los_Angeles:20230608T173000
DTEND;TZID=America/Los_Angeles:20230608T193000
DTSTAMP:20260425T044927
CREATED:20230412T164212Z
LAST-MODIFIED:20230412T164212Z
UID:2550-1686245400-1686252600@unitedchurchofmoscow.com
SUMMARY:AA Meeting
DESCRIPTION:
URL:https://unitedchurchofmoscow.com/events/aa-meeting-12/
END:VEVENT
BEGIN:VEVENT
DTSTART;TZID=America/Los_Angeles:20230607T100000
DTEND;TZID=America/Los_Angeles:20230607T120000
DTSTAMP:20260425T044927
CREATED:20230412T164346Z
LAST-MODIFIED:20230412T164346Z
UID:2554-1686132000-1686139200@unitedchurchofmoscow.com
SUMMARY:Palouse Watercolor Scious
DESCRIPTION:
URL:https://unitedchurchofmoscow.com/events/palouse-watercolor-scious/
END:VEVENT
BEGIN:VEVENT
DTSTART;TZID=America/Los_Angeles:20230606T173000
DTEND;TZID=America/Los_Angeles:20230606T193000
DTSTAMP:20260425T044927
CREATED:20230412T164145Z
LAST-MODIFIED:20230412T164145Z
UID:2548-1686072600-1686079800@unitedchurchofmoscow.com
SUMMARY:AA Meeting
DESCRIPTION:
URL:https://unitedchurchofmoscow.com/events/aa-meeting-11/
END:VEVENT
BEGIN:VEVENT
DTSTART;TZID=America/Los_Angeles:20230604T110000
DTEND;TZID=America/Los_Angeles:20230604T120000
DTSTAMP:20260425T044927
CREATED:20230412T163719Z
LAST-MODIFIED:20230412T163719Z
UID:2539-1685876400-1685880000@unitedchurchofmoscow.com
SUMMARY:Worship Service
DESCRIPTION:
URL:https://unitedchurchofmoscow.com/events/worship-service-5/
END:VEVENT
BEGIN:VEVENT
DTSTART;TZID=America/Los_Angeles:20230601T173000
DTEND;TZID=America/Los_Angeles:20230601T193000
DTSTAMP:20260425T044927
CREATED:20230223T190856Z
LAST-MODIFIED:20230223T190856Z
UID:2512-1685640600-1685647800@unitedchurchofmoscow.com
SUMMARY:AA Meeting
DESCRIPTION:
URL:https://unitedchurchofmoscow.com/events/aa-meeting-10/
END:VEVENT
BEGIN:VEVENT
DTSTART;TZID=America/Los_Angeles:20230530T173000
DTEND;TZID=America/Los_Angeles:20230530T193000
DTSTAMP:20260425T044927
CREATED:20230223T190815Z
LAST-MODIFIED:20230223T190815Z
UID:2510-1685467800-1685475000@unitedchurchofmoscow.com
SUMMARY:AA Meeting
DESCRIPTION:
URL:https://unitedchurchofmoscow.com/events/aa-meeting-9/
END:VEVENT
BEGIN:VEVENT
DTSTART;TZID=America/Los_Angeles:20230528T110000
DTEND;TZID=America/Los_Angeles:20230528T120000
DTSTAMP:20260425T044927
CREATED:20230223T190743Z
LAST-MODIFIED:20230503T143037Z
UID:2508-1685271600-1685275200@unitedchurchofmoscow.com
SUMMARY:No Service Memorial Day weekend
DESCRIPTION:
URL:https://unitedchurchofmoscow.com/events/worship-service-4/
END:VEVENT
BEGIN:VEVENT
DTSTART;TZID=America/Los_Angeles:20230525T173000
DTEND;TZID=America/Los_Angeles:20230525T193000
DTSTAMP:20260425T044927
CREATED:20230223T190632Z
LAST-MODIFIED:20230223T190632Z
UID:2504-1685035800-1685043000@unitedchurchofmoscow.com
SUMMARY:AA Meeting
DESCRIPTION:
URL:https://unitedchurchofmoscow.com/events/aa-meeting-8/
END:VEVENT
BEGIN:VEVENT
DTSTART;TZID=America/Los_Angeles:20230524T190000
DTEND;TZID=America/Los_Angeles:20230524T210000
DTSTAMP:20260425T044927
CREATED:20230223T190547Z
LAST-MODIFIED:20230223T190547Z
UID:2502-1684954800-1684962000@unitedchurchofmoscow.com
SUMMARY:Elders'/Deacons' Meeting
DESCRIPTION:
URL:https://unitedchurchofmoscow.com/events/elders-deacons-meeting/
END:VEVENT
BEGIN:VEVENT
DTSTART;TZID=America/Los_Angeles:20230523T173000
DTEND;TZID=America/Los_Angeles:20230523T193000
DTSTAMP:20260425T044927
CREATED:20230223T190100Z
LAST-MODIFIED:20230223T190100Z
UID:2499-1684863000-1684870200@unitedchurchofmoscow.com
SUMMARY:AA Meeting
DESCRIPTION:
URL:https://unitedchurchofmoscow.com/events/aa-meeting-7/
END:VEVENT
BEGIN:VEVENT
DTSTART;TZID=America/Los_Angeles:20230521T110000
DTEND;TZID=America/Los_Angeles:20230521T120000
DTSTAMP:20260425T044927
CREATED:20230223T190026Z
LAST-MODIFIED:20230503T143201Z
UID:2497-1684666800-1684670400@unitedchurchofmoscow.com
SUMMARY:Worship Service: Outdoor Service with “church camp” theme and singing
DESCRIPTION:
URL:https://unitedchurchofmoscow.com/events/worship-service-3/
END:VEVENT
BEGIN:VEVENT
DTSTART;TZID=America/Los_Angeles:20230518T173000
DTEND;TZID=America/Los_Angeles:20230518T193000
DTSTAMP:20260425T044927
CREATED:20230223T185910Z
LAST-MODIFIED:20230223T185910Z
UID:2493-1684431000-1684438200@unitedchurchofmoscow.com
SUMMARY:AA Meeting
DESCRIPTION:
URL:https://unitedchurchofmoscow.com/events/aa-meeting-6/
END:VEVENT
BEGIN:VEVENT
DTSTART;TZID=America/Los_Angeles:20230516T173000
DTEND;TZID=America/Los_Angeles:20230516T193000
DTSTAMP:20260425T044927
CREATED:20230223T185839Z
LAST-MODIFIED:20230223T185839Z
UID:2491-1684258200-1684265400@unitedchurchofmoscow.com
SUMMARY:AA Meeting
DESCRIPTION:
URL:https://unitedchurchofmoscow.com/events/aa-meeting-5/
END:VEVENT
BEGIN:VEVENT
DTSTART;TZID=America/Los_Angeles:20230514T110000
DTEND;TZID=America/Los_Angeles:20230514T120000
DTSTAMP:20260425T044927
CREATED:20230223T185812Z
LAST-MODIFIED:20230503T143309Z
UID:2489-1684062000-1684065600@unitedchurchofmoscow.com
SUMMARY:Worship Service: Mother’s Day theme: Eneida Larti\, UI music professor\, will offer a program of music
DESCRIPTION:
URL:https://unitedchurchofmoscow.com/events/worship-service-2/
END:VEVENT
BEGIN:VEVENT
DTSTART;TZID=America/Los_Angeles:20230514T093000
DTEND;TZID=America/Los_Angeles:20230514T103000
DTSTAMP:20260425T044927
CREATED:20230223T185742Z
LAST-MODIFIED:20230223T185742Z
UID:2487-1684056600-1684060200@unitedchurchofmoscow.com
SUMMARY:Faith Exploratins
DESCRIPTION:
URL:https://unitedchurchofmoscow.com/events/faith-exploratins/
END:VEVENT
END:VCALENDAR