BEGIN:VCALENDAR
VERSION:2.0
PRODID:-//The United Church of Moscow - ECPv6.15.20//NONSGML v1.0//EN
CALSCALE:GREGORIAN
METHOD:PUBLISH
X-WR-CALNAME:The United Church of Moscow
X-ORIGINAL-URL:https://unitedchurchofmoscow.com
X-WR-CALDESC:Events for The United Church of Moscow
REFRESH-INTERVAL;VALUE=DURATION:PT1H
X-Robots-Tag:noindex
X-PUBLISHED-TTL:PT1H
BEGIN:VTIMEZONE
TZID:America/Los_Angeles
BEGIN:DAYLIGHT
TZOFFSETFROM:-0800
TZOFFSETTO:-0700
TZNAME:PDT
DTSTART:20220313T100000
END:DAYLIGHT
BEGIN:STANDARD
TZOFFSETFROM:-0700
TZOFFSETTO:-0800
TZNAME:PST
DTSTART:20221106T090000
END:STANDARD
BEGIN:DAYLIGHT
TZOFFSETFROM:-0800
TZOFFSETTO:-0700
TZNAME:PDT
DTSTART:20230312T100000
END:DAYLIGHT
BEGIN:STANDARD
TZOFFSETFROM:-0700
TZOFFSETTO:-0800
TZNAME:PST
DTSTART:20231105T090000
END:STANDARD
BEGIN:DAYLIGHT
TZOFFSETFROM:-0800
TZOFFSETTO:-0700
TZNAME:PDT
DTSTART:20240310T100000
END:DAYLIGHT
BEGIN:STANDARD
TZOFFSETFROM:-0700
TZOFFSETTO:-0800
TZNAME:PST
DTSTART:20241103T090000
END:STANDARD
END:VTIMEZONE
BEGIN:VEVENT
DTSTART;TZID=America/Los_Angeles:20231027T173000
DTEND;TZID=America/Los_Angeles:20231027T193000
DTSTAMP:20260424T085823
CREATED:20230902T141823Z
LAST-MODIFIED:20230902T141823Z
UID:2739-1698427800-1698435000@unitedchurchofmoscow.com
SUMMARY:AA Meeting
DESCRIPTION:
URL:https://unitedchurchofmoscow.com/events/aa-meeting-72/
END:VEVENT
BEGIN:VEVENT
DTSTART;TZID=America/Los_Angeles:20231025T190000
DTEND;TZID=America/Los_Angeles:20231025T210000
DTSTAMP:20260424T085823
CREATED:20230902T142245Z
LAST-MODIFIED:20230902T142245Z
UID:2747-1698260400-1698267600@unitedchurchofmoscow.com
SUMMARY:Elders'/Deacons' Meeting
DESCRIPTION:
URL:https://unitedchurchofmoscow.com/events/elders-deacons-meeting-8/
END:VEVENT
BEGIN:VEVENT
DTSTART;TZID=America/Los_Angeles:20231024T173000
DTEND;TZID=America/Los_Angeles:20231024T193000
DTSTAMP:20260424T085823
CREATED:20230902T141759Z
LAST-MODIFIED:20230902T141759Z
UID:2737-1698168600-1698175800@unitedchurchofmoscow.com
SUMMARY:AA Meeting
DESCRIPTION:
URL:https://unitedchurchofmoscow.com/events/aa-meeting-71/
END:VEVENT
BEGIN:VEVENT
DTSTART;TZID=America/Los_Angeles:20231022T110000
DTEND;TZID=America/Los_Angeles:20231022T120000
DTSTAMP:20260424T085823
CREATED:20230928T163735Z
LAST-MODIFIED:20230928T190451Z
UID:2756-1697972400-1697976000@unitedchurchofmoscow.com
SUMMARY:Traditional Service – Hymn Sing
DESCRIPTION:Traditional Service – Hymn Sing
URL:https://unitedchurchofmoscow.com/events/traditional-service-hymn-sing/
END:VEVENT
BEGIN:VEVENT
DTSTART;TZID=America/Los_Angeles:20231019T173000
DTEND;TZID=America/Los_Angeles:20231019T193000
DTSTAMP:20260424T085823
CREATED:20230902T141734Z
LAST-MODIFIED:20230902T141734Z
UID:2735-1697736600-1697743800@unitedchurchofmoscow.com
SUMMARY:AA Meeting
DESCRIPTION:
URL:https://unitedchurchofmoscow.com/events/aa-meeting-70/
END:VEVENT
BEGIN:VEVENT
DTSTART;TZID=America/Los_Angeles:20231017T173000
DTEND;TZID=America/Los_Angeles:20231017T193000
DTSTAMP:20260424T085823
CREATED:20230902T141715Z
LAST-MODIFIED:20230902T141715Z
UID:2733-1697563800-1697571000@unitedchurchofmoscow.com
SUMMARY:AA Meeting
DESCRIPTION:
URL:https://unitedchurchofmoscow.com/events/aa-meeting-69/
END:VEVENT
BEGIN:VEVENT
DTSTART;TZID=America/Los_Angeles:20231015T110000
DTEND;TZID=America/Los_Angeles:20231015T120000
DTSTAMP:20260424T085823
CREATED:20230902T141047Z
LAST-MODIFIED:20230928T190406Z
UID:2704-1697367600-1697371200@unitedchurchofmoscow.com
SUMMARY:Faith Exploration – Climate Justice  Introduction
DESCRIPTION:
URL:https://unitedchurchofmoscow.com/events/worship-service-33/
END:VEVENT
BEGIN:VEVENT
DTSTART;TZID=America/Los_Angeles:20231012T173000
DTEND;TZID=America/Los_Angeles:20231012T193000
DTSTAMP:20260424T085823
CREATED:20230902T141656Z
LAST-MODIFIED:20230902T141656Z
UID:2731-1697131800-1697139000@unitedchurchofmoscow.com
SUMMARY:AA Meeting
DESCRIPTION:
URL:https://unitedchurchofmoscow.com/events/aa-meeting-68/
END:VEVENT
BEGIN:VEVENT
DTSTART;TZID=America/Los_Angeles:20231011T190000
DTEND;TZID=America/Los_Angeles:20231011T210000
DTSTAMP:20260424T085823
CREATED:20230902T142004Z
LAST-MODIFIED:20230902T142004Z
UID:2743-1697050800-1697058000@unitedchurchofmoscow.com
SUMMARY:Board of Director's Meeting
DESCRIPTION:
URL:https://unitedchurchofmoscow.com/events/board-of-directors-meeting-8/
END:VEVENT
BEGIN:VEVENT
DTSTART;TZID=America/Los_Angeles:20231010T173000
DTEND;TZID=America/Los_Angeles:20231010T193000
DTSTAMP:20260424T085823
CREATED:20230902T141629Z
LAST-MODIFIED:20230902T141629Z
UID:2729-1696959000-1696966200@unitedchurchofmoscow.com
SUMMARY:AA Meeting
DESCRIPTION:
URL:https://unitedchurchofmoscow.com/events/aa-meeting-67/
END:VEVENT
BEGIN:VEVENT
DTSTART;VALUE=DATE:20231008
DTEND;VALUE=DATE:20231009
DTSTAMP:20260424T085823
CREATED:20230902T141016Z
LAST-MODIFIED:20230928T163537Z
UID:2702-1696723200-1696809599@unitedchurchofmoscow.com
SUMMARY:No Service – Help Habitat Ramp Project
DESCRIPTION:
URL:https://unitedchurchofmoscow.com/events/worship-service-32/
END:VEVENT
BEGIN:VEVENT
DTSTART;TZID=America/Los_Angeles:20231005T173000
DTEND;TZID=America/Los_Angeles:20231005T193000
DTSTAMP:20260424T085823
CREATED:20230902T141606Z
LAST-MODIFIED:20230902T141606Z
UID:2727-1696527000-1696534200@unitedchurchofmoscow.com
SUMMARY:AA Meeting
DESCRIPTION:
URL:https://unitedchurchofmoscow.com/events/aa-meeting-66/
END:VEVENT
BEGIN:VEVENT
DTSTART;TZID=America/Los_Angeles:20231003T173000
DTEND;TZID=America/Los_Angeles:20231003T193000
DTSTAMP:20260424T085823
CREATED:20230902T141540Z
LAST-MODIFIED:20230902T141540Z
UID:2725-1696354200-1696361400@unitedchurchofmoscow.com
SUMMARY:AA Meeting
DESCRIPTION:
URL:https://unitedchurchofmoscow.com/events/aa-meeting-65/
END:VEVENT
BEGIN:VEVENT
DTSTART;TZID=America/Los_Angeles:20231001T110000
DTEND;TZID=America/Los_Angeles:20231001T120000
DTSTAMP:20260424T085823
CREATED:20230928T163445Z
LAST-MODIFIED:20230928T185951Z
UID:2750-1696158000-1696161600@unitedchurchofmoscow.com
SUMMARY:Economic Justice Follow-up Discussion
DESCRIPTION:
URL:https://unitedchurchofmoscow.com/events/faith-exploration-economic-justice-follow-up-discussion/
END:VEVENT
BEGIN:VEVENT
DTSTART;TZID=America/Los_Angeles:20230928T173000
DTEND;TZID=America/Los_Angeles:20230928T193000
DTSTAMP:20260424T085823
CREATED:20230902T141517Z
LAST-MODIFIED:20230902T141517Z
UID:2723-1695922200-1695929400@unitedchurchofmoscow.com
SUMMARY:AA Meeting
DESCRIPTION:
URL:https://unitedchurchofmoscow.com/events/aa-meeting-64/
END:VEVENT
BEGIN:VEVENT
DTSTART;TZID=America/Los_Angeles:20230927T190000
DTEND;TZID=America/Los_Angeles:20230927T210000
DTSTAMP:20260424T085823
CREATED:20230902T142220Z
LAST-MODIFIED:20230902T142220Z
UID:2745-1695841200-1695848400@unitedchurchofmoscow.com
SUMMARY:Elders'/Deacons' Meeting
DESCRIPTION:
URL:https://unitedchurchofmoscow.com/events/elders-deacons-meeting-7/
END:VEVENT
BEGIN:VEVENT
DTSTART;TZID=America/Los_Angeles:20230926T173000
DTEND;TZID=America/Los_Angeles:20230926T193000
DTSTAMP:20260424T085823
CREATED:20230902T141454Z
LAST-MODIFIED:20230902T141454Z
UID:2721-1695749400-1695756600@unitedchurchofmoscow.com
SUMMARY:AA Meeting
DESCRIPTION:
URL:https://unitedchurchofmoscow.com/events/aa-meeting-63/
END:VEVENT
BEGIN:VEVENT
DTSTART;TZID=America/Los_Angeles:20230924T110000
DTEND;TZID=America/Los_Angeles:20230924T120000
DTSTAMP:20260424T085823
CREATED:20230902T140918Z
LAST-MODIFIED:20230928T190242Z
UID:2698-1695553200-1695556800@unitedchurchofmoscow.com
SUMMARY:Guest Speaker – Economic Justice\,  Dr. Casey Bolt
DESCRIPTION:
URL:https://unitedchurchofmoscow.com/events/worship-service-30/
END:VEVENT
BEGIN:VEVENT
DTSTART;TZID=America/Los_Angeles:20230921T173000
DTEND;TZID=America/Los_Angeles:20230921T193000
DTSTAMP:20260424T085823
CREATED:20230902T141428Z
LAST-MODIFIED:20230902T141428Z
UID:2719-1695317400-1695324600@unitedchurchofmoscow.com
SUMMARY:AA Meeting
DESCRIPTION:
URL:https://unitedchurchofmoscow.com/events/aa-meeting-62/
END:VEVENT
BEGIN:VEVENT
DTSTART;TZID=America/Los_Angeles:20230919T173000
DTEND;TZID=America/Los_Angeles:20230919T193000
DTSTAMP:20260424T085823
CREATED:20230902T141408Z
LAST-MODIFIED:20230902T141408Z
UID:2717-1695144600-1695151800@unitedchurchofmoscow.com
SUMMARY:AA Meeting
DESCRIPTION:
URL:https://unitedchurchofmoscow.com/events/aa-meeting-61/
END:VEVENT
BEGIN:VEVENT
DTSTART;TZID=America/Los_Angeles:20230917T110000
DTEND;TZID=America/Los_Angeles:20230917T120000
DTSTAMP:20260424T085823
CREATED:20230902T140855Z
LAST-MODIFIED:20230902T140855Z
UID:2696-1694948400-1694952000@unitedchurchofmoscow.com
SUMMARY:Worship Service
DESCRIPTION:Worship Service
URL:https://unitedchurchofmoscow.com/events/worship-service-29/
END:VEVENT
BEGIN:VEVENT
DTSTART;TZID=America/Los_Angeles:20230914T173000
DTEND;TZID=America/Los_Angeles:20230914T193000
DTSTAMP:20260424T085823
CREATED:20230902T141346Z
LAST-MODIFIED:20230902T141346Z
UID:2715-1694712600-1694719800@unitedchurchofmoscow.com
SUMMARY:AA Meeting
DESCRIPTION:
URL:https://unitedchurchofmoscow.com/events/aa-meeting-60/
END:VEVENT
BEGIN:VEVENT
DTSTART;TZID=America/Los_Angeles:20230913T190000
DTEND;TZID=America/Los_Angeles:20230913T210000
DTSTAMP:20260424T085823
CREATED:20230902T141922Z
LAST-MODIFIED:20230902T141922Z
UID:2741-1694631600-1694638800@unitedchurchofmoscow.com
SUMMARY:Board of Director's Meeting
DESCRIPTION:
URL:https://unitedchurchofmoscow.com/events/board-of-directors-meeting-7/
END:VEVENT
BEGIN:VEVENT
DTSTART;TZID=America/Los_Angeles:20230912T173000
DTEND;TZID=America/Los_Angeles:20230912T193000
DTSTAMP:20260424T085823
CREATED:20230902T141326Z
LAST-MODIFIED:20230902T141326Z
UID:2713-1694539800-1694547000@unitedchurchofmoscow.com
SUMMARY:AA Meeting
DESCRIPTION:
URL:https://unitedchurchofmoscow.com/events/aa-meeting-59/
END:VEVENT
BEGIN:VEVENT
DTSTART;TZID=America/Los_Angeles:20230910T110000
DTEND;TZID=America/Los_Angeles:20230910T120000
DTSTAMP:20260424T085823
CREATED:20230902T140832Z
LAST-MODIFIED:20230902T140832Z
UID:2694-1694343600-1694347200@unitedchurchofmoscow.com
SUMMARY:Worship Service
DESCRIPTION:
URL:https://unitedchurchofmoscow.com/events/worship-service-28/
END:VEVENT
BEGIN:VEVENT
DTSTART;TZID=America/Los_Angeles:20230907T173000
DTEND;TZID=America/Los_Angeles:20230907T193000
DTSTAMP:20260424T085823
CREATED:20230902T141304Z
LAST-MODIFIED:20230902T141304Z
UID:2711-1694107800-1694115000@unitedchurchofmoscow.com
SUMMARY:AA Meeting
DESCRIPTION:
URL:https://unitedchurchofmoscow.com/events/aa-meeting-58/
END:VEVENT
BEGIN:VEVENT
DTSTART;TZID=America/Los_Angeles:20230905T173000
DTEND;TZID=America/Los_Angeles:20230905T193000
DTSTAMP:20260424T085823
CREATED:20230902T141240Z
LAST-MODIFIED:20230902T141240Z
UID:2709-1693935000-1693942200@unitedchurchofmoscow.com
SUMMARY:AA Meeting
DESCRIPTION:
URL:https://unitedchurchofmoscow.com/events/aa-meeting-57/
END:VEVENT
BEGIN:VEVENT
DTSTART;TZID=America/Los_Angeles:20230831T173000
DTEND;TZID=America/Los_Angeles:20230831T193000
DTSTAMP:20260424T085823
CREATED:20230412T170436Z
LAST-MODIFIED:20230412T170436Z
UID:2622-1693503000-1693510200@unitedchurchofmoscow.com
SUMMARY:AA Meeting
DESCRIPTION:
URL:https://unitedchurchofmoscow.com/events/aa-meeting-56/
END:VEVENT
BEGIN:VEVENT
DTSTART;TZID=America/Los_Angeles:20230829T173000
DTEND;TZID=America/Los_Angeles:20230829T193000
DTSTAMP:20260424T085823
CREATED:20230412T170409Z
LAST-MODIFIED:20230412T170409Z
UID:2620-1693330200-1693337400@unitedchurchofmoscow.com
SUMMARY:AA Meeting
DESCRIPTION:
URL:https://unitedchurchofmoscow.com/events/aa-meeting-55/
END:VEVENT
BEGIN:VEVENT
DTSTART;TZID=America/Los_Angeles:20230827T110000
DTEND;TZID=America/Los_Angeles:20230827T120000
DTSTAMP:20260424T085823
CREATED:20230412T171251Z
LAST-MODIFIED:20230412T171251Z
UID:2643-1693134000-1693137600@unitedchurchofmoscow.com
SUMMARY:Worship Service
DESCRIPTION:
URL:https://unitedchurchofmoscow.com/events/worship-service-9/
END:VEVENT
END:VCALENDAR