BEGIN:VCALENDAR
VERSION:2.0
PRODID:-//The United Church of Moscow - ECPv6.15.20//NONSGML v1.0//EN
CALSCALE:GREGORIAN
METHOD:PUBLISH
X-ORIGINAL-URL:https://unitedchurchofmoscow.com
X-WR-CALDESC:Events for The United Church of Moscow
REFRESH-INTERVAL;VALUE=DURATION:PT1H
X-Robots-Tag:noindex
X-PUBLISHED-TTL:PT1H
BEGIN:VTIMEZONE
TZID:America/Los_Angeles
BEGIN:DAYLIGHT
TZOFFSETFROM:-0800
TZOFFSETTO:-0700
TZNAME:PDT
DTSTART:20230312T100000
END:DAYLIGHT
BEGIN:STANDARD
TZOFFSETFROM:-0700
TZOFFSETTO:-0800
TZNAME:PST
DTSTART:20231105T090000
END:STANDARD
BEGIN:DAYLIGHT
TZOFFSETFROM:-0800
TZOFFSETTO:-0700
TZNAME:PDT
DTSTART:20240310T100000
END:DAYLIGHT
BEGIN:STANDARD
TZOFFSETFROM:-0700
TZOFFSETTO:-0800
TZNAME:PST
DTSTART:20241103T090000
END:STANDARD
BEGIN:DAYLIGHT
TZOFFSETFROM:-0800
TZOFFSETTO:-0700
TZNAME:PDT
DTSTART:20250309T100000
END:DAYLIGHT
BEGIN:STANDARD
TZOFFSETFROM:-0700
TZOFFSETTO:-0800
TZNAME:PST
DTSTART:20251102T090000
END:STANDARD
END:VTIMEZONE
BEGIN:VEVENT
DTSTART;TZID=America/Los_Angeles:20240225T110000
DTEND;TZID=America/Los_Angeles:20240225T120000
DTSTAMP:20260425T095645
CREATED:20231005T145258Z
LAST-MODIFIED:20231005T145258Z
UID:2815-1708858800-1708862400@unitedchurchofmoscow.com
SUMMARY:Open to Suggestions
DESCRIPTION:
URL:https://unitedchurchofmoscow.com/events/open-to-suggestions/
LOCATION:ID
END:VEVENT
BEGIN:VEVENT
DTSTART;TZID=America/Los_Angeles:20240303T110000
DTEND;TZID=America/Los_Angeles:20240303T120000
DTSTAMP:20260425T095645
CREATED:20231005T145506Z
LAST-MODIFIED:20231212T175111Z
UID:2818-1709463600-1709467200@unitedchurchofmoscow.com
SUMMARY:Joint Service with another Church
DESCRIPTION:
URL:https://unitedchurchofmoscow.com/events/joint-service-another-church/
LOCATION:ID
END:VEVENT
BEGIN:VEVENT
DTSTART;TZID=America/Los_Angeles:20240310T110000
DTEND;TZID=America/Los_Angeles:20240310T120000
DTSTAMP:20260425T095645
CREATED:20231005T145644Z
LAST-MODIFIED:20231005T145644Z
UID:2820-1710068400-1710072000@unitedchurchofmoscow.com
SUMMARY:No Service - MSD Spring Break
DESCRIPTION:
URL:https://unitedchurchofmoscow.com/events/no-service-msd-spring-break/
LOCATION:ID
END:VEVENT
BEGIN:VEVENT
DTSTART;TZID=America/Los_Angeles:20240317T110000
DTEND;TZID=America/Los_Angeles:20240317T120000
DTSTAMP:20260425T095645
CREATED:20231005T145756Z
LAST-MODIFIED:20231212T175206Z
UID:2822-1710673200-1710676800@unitedchurchofmoscow.com
SUMMARY:Selected Episode – The Chosen relevant to Easter
DESCRIPTION:Selected Episode – The Chosen
URL:https://unitedchurchofmoscow.com/events/selected-episode-the-chosen-2/
LOCATION:ID
END:VEVENT
BEGIN:VEVENT
DTSTART;TZID=America/Los_Angeles:20240324T110000
DTEND;TZID=America/Los_Angeles:20240324T120000
DTSTAMP:20260425T095645
CREATED:20231005T150052Z
LAST-MODIFIED:20231212T175231Z
UID:2824-1711278000-1711281600@unitedchurchofmoscow.com
SUMMARY:Selected Episode – The Chosen relevant to Easter
DESCRIPTION:
URL:https://unitedchurchofmoscow.com/events/selected-episode-the-chosen-3/
LOCATION:ID
END:VEVENT
BEGIN:VEVENT
DTSTART;VALUE=DATE:20240328
DTEND;VALUE=DATE:20240329
DTSTAMP:20260425T095645
CREATED:20231005T150148Z
LAST-MODIFIED:20231212T175304Z
UID:2826-1711584000-1711670399@unitedchurchofmoscow.com
SUMMARY:Maundy Thursday - A joint Celebration
DESCRIPTION:Maundy Thursday
URL:https://unitedchurchofmoscow.com/events/maundy-thursday/
LOCATION:ID
END:VEVENT
BEGIN:VEVENT
DTSTART;TZID=America/Los_Angeles:20240331T110000
DTEND;TZID=America/Los_Angeles:20240331T120000
DTSTAMP:20260425T095645
CREATED:20231005T150222Z
LAST-MODIFIED:20231005T150222Z
UID:2828-1711882800-1711886400@unitedchurchofmoscow.com
SUMMARY:Traditional Service – Easter Sunday
DESCRIPTION:
URL:https://unitedchurchofmoscow.com/events/traditional-service-easter-sunday/
LOCATION:ID
END:VEVENT
BEGIN:VEVENT
DTSTART;TZID=America/Los_Angeles:20240407T110000
DTEND;TZID=America/Los_Angeles:20240407T120000
DTSTAMP:20260425T095645
CREATED:20231005T150301Z
LAST-MODIFIED:20231212T175344Z
UID:2830-1712487600-1712491200@unitedchurchofmoscow.com
SUMMARY:Faith Exploration – topic to be determined
DESCRIPTION:
URL:https://unitedchurchofmoscow.com/events/faith-exploration-labor-justice-introduction/
LOCATION:ID
END:VEVENT
BEGIN:VEVENT
DTSTART;TZID=America/Los_Angeles:20240414T110000
DTEND;TZID=America/Los_Angeles:20240414T120000
DTSTAMP:20260425T095645
CREATED:20231005T150345Z
LAST-MODIFIED:20231212T175441Z
UID:2832-1713092400-1713096000@unitedchurchofmoscow.com
SUMMARY:No Service
DESCRIPTION:
URL:https://unitedchurchofmoscow.com/events/guest-speaker-labor-justice/
LOCATION:ID
END:VEVENT
BEGIN:VEVENT
DTSTART;TZID=America/Los_Angeles:20240421T110000
DTEND;TZID=America/Los_Angeles:20240421T235900
DTSTAMP:20260425T095645
CREATED:20231005T150414Z
LAST-MODIFIED:20240419T170842Z
UID:2834-1713697200-1713743940@unitedchurchofmoscow.com
SUMMARY:Faith Exploration - What does it mean to be a progressive Christian? Oz Garton will give a presentation and lead a discussion.
DESCRIPTION:
URL:https://unitedchurchofmoscow.com/events/no-service/
LOCATION:ID
END:VEVENT
BEGIN:VEVENT
DTSTART;TZID=America/Los_Angeles:20240428T110000
DTEND;TZID=America/Los_Angeles:20240428T120000
DTSTAMP:20260425T095645
CREATED:20231005T150446Z
LAST-MODIFIED:20240426T223000Z
UID:2836-1714302000-1714305600@unitedchurchofmoscow.com
SUMMARY:Faith Exploration:  Poverty in America - Dale will present on this issue and lead a conversation about what we can do to address poverty in Moscow.  12:00pm - ANNUAL CHURCH MEETING - Vote for our officers.
DESCRIPTION:
URL:https://unitedchurchofmoscow.com/events/faith-exploration-labor-justice-follow-up-discussion/
LOCATION:ID
END:VEVENT
BEGIN:VEVENT
DTSTART;TZID=America/Los_Angeles:20240505T110000
DTEND;TZID=America/Los_Angeles:20240505T120000
DTSTAMP:20260425T095645
CREATED:20231005T150534Z
LAST-MODIFIED:20240505T061325Z
UID:2838-1714906800-1714910400@unitedchurchofmoscow.com
SUMMARY:BOOKS! (In person & Zoom - click title & scroll down for zoom link) Community Representatives will discuss recent laws and the implications and possibilities of banning.
DESCRIPTION:We welcome Robert Bailey\, Annette Pimentel\, and Rochelle Smith this Sunday at 11 am. \nHere is a brief outline of their presentation: \n1. Review of the national and state context\n2. Explanation of Idaho law\n3. How our local library provides services in the face of the law\n4. Additional discussion/questions and answers \nTopic: My Meeting\nTime: May 5\, 2024 11:00 AM Pacific Time (US and Canada)\n \nJoin Zoom Meeting\nhttps://uidaho.zoom.us/j/81295077023\n \nMeeting ID: 812 9507 7023\nPasscode: 487438
URL:https://unitedchurchofmoscow.com/events/traditional-service-2/
LOCATION:ID
END:VEVENT
BEGIN:VEVENT
DTSTART;TZID=America/Los_Angeles:20240512T110000
DTEND;TZID=America/Los_Angeles:20240512T120000
DTSTAMP:20260425T095645
CREATED:20231005T150620Z
LAST-MODIFIED:20231005T150620Z
UID:2840-1715511600-1715515200@unitedchurchofmoscow.com
SUMMARY:Service – Hymn Sing and/or Special Music
DESCRIPTION:
URL:https://unitedchurchofmoscow.com/events/service-hymn-sing-and-or-special-music/
LOCATION:ID
END:VEVENT
BEGIN:VEVENT
DTSTART;TZID=America/Los_Angeles:20240519T110000
DTEND;TZID=America/Los_Angeles:20240519T120000
DTSTAMP:20260425T095645
CREATED:20231005T150653Z
LAST-MODIFIED:20231005T150653Z
UID:2842-1716116400-1716120000@unitedchurchofmoscow.com
SUMMARY:Faith Exploration – Topic to be Determined
DESCRIPTION:
URL:https://unitedchurchofmoscow.com/events/faith-exploration-topic-to-be-determined/
LOCATION:ID
END:VEVENT
BEGIN:VEVENT
DTSTART;VALUE=DATE:20240526
DTEND;VALUE=DATE:20240527
DTSTAMP:20260425T095645
CREATED:20231005T150721Z
LAST-MODIFIED:20240521T020432Z
UID:2844-1716681600-1716767999@unitedchurchofmoscow.com
SUMMARY:Service Day (click for more info)
DESCRIPTION:We will not be holding a service in the church today.  Instead\, we invite you to engage in some kind of service act\, no matter how small.
URL:https://unitedchurchofmoscow.com/events/no-service-memorial-day/
LOCATION:ID
END:VEVENT
BEGIN:VEVENT
DTSTART;TZID=America/Los_Angeles:20240602T100000
DTEND;TZID=America/Los_Angeles:20240602T110000
DTSTAMP:20260425T095645
CREATED:20240521T004918Z
LAST-MODIFIED:20240521T005046Z
UID:2975-1717322400-1717326000@unitedchurchofmoscow.com
SUMMARY:“A New Perspective on Ancient Questions” (click for more information)
DESCRIPTION:Today we begin our Faith Exploration through the DVD Series: The Spiritual Brain: Science and Religious Experience.
URL:https://unitedchurchofmoscow.com/events/a-new-perspective-on-ancient-questions-click-for-more-information/
LOCATION:ID
END:VEVENT
BEGIN:VEVENT
DTSTART;TZID=America/Los_Angeles:20240609T100000
DTEND;TZID=America/Los_Angeles:20240609T110000
DTSTAMP:20260425T095645
CREATED:20240521T005308Z
LAST-MODIFIED:20240521T005347Z
UID:2979-1717927200-1717930800@unitedchurchofmoscow.com
SUMMARY:Why Do We Have a Spiritual Brain? (click for more information)
DESCRIPTION:This week we explore the 2nd in the DVD Series The Spiritual Brain: Science and Religious Experience.
URL:https://unitedchurchofmoscow.com/events/why-do-we-have-a-spiritual-brain-click-for-more-information/
LOCATION:ID
END:VEVENT
BEGIN:VEVENT
DTSTART;VALUE=DATE:20240616
DTEND;VALUE=DATE:20240617
DTSTAMP:20260425T095645
CREATED:20240521T010727Z
LAST-MODIFIED:20240604T160925Z
UID:2993-1718496000-1718582399@unitedchurchofmoscow.com
SUMMARY:Happy Father's Day! (click for more info)
DESCRIPTION:We will not be holding a service in the church today. We invite you to attend the Sojourner’s Father’s Day breakfast and perhaps engage in a service act for our community.
URL:https://unitedchurchofmoscow.com/events/happy-fathers-day/
LOCATION:ID
END:VEVENT
BEGIN:VEVENT
DTSTART;TZID=America/Los_Angeles:20240623T100000
DTEND;TZID=America/Los_Angeles:20240623T110000
DTSTAMP:20260425T095645
CREATED:20240521T005940Z
LAST-MODIFIED:20240619T003127Z
UID:2985-1719136800-1719140400@unitedchurchofmoscow.com
SUMMARY:Ramp Building with Habitat for Humanity (click for more info)
DESCRIPTION:Help us build ramps in Genesee with Habitat for Humanity this week. \nSIGN UP BY FRIDAY 6/21\nWe will meet at 10:00 at the Habitat for Humanity warehouse which is behind the Habitat Restore at 304 N. Main St in Moscow. The warehouse is easiest to access from Washington St.  \n\nWear work clothes and gloves. \nWe’ll load the work truck and then \ncarpool to Genesee where we’ll install a wheelchair ramp.\nThis wooden ramp will have plenty of room around it\, so we can all be working at once. No special skills are required and all the needed tools will be provided.\nThere are two requirements for volunteers: \n\n(1) be at least 16 years old and \n(2) sign a registration form which will be made available.\n\n\nDepending on the number of volunteers\, the job should take about 4 hours in all\, so if you have any questions ask Brent at brentbradberry@moscow.com and share any ideas about lunch!
URL:https://unitedchurchofmoscow.com/events/ramp-building-with-habitat-for-humanity-click-for-more-info/
LOCATION:ID
END:VEVENT
BEGIN:VEVENT
DTSTART;TZID=America/Los_Angeles:20240630T100000
DTEND;TZID=America/Los_Angeles:20240630T110000
DTSTAMP:20260425T095645
CREATED:20240521T012641Z
LAST-MODIFIED:20240521T012729Z
UID:2999-1719741600-1719745200@unitedchurchofmoscow.com
SUMMARY:Faith Exploration - Social Justice Series - LGBTQI+ Representatives share about their experiences in our community.
DESCRIPTION:
URL:https://unitedchurchofmoscow.com/events/faith-exploration-social-justice-series-lgbtqi-representatives-share-their-experiences-in-our-community/
LOCATION:ID
END:VEVENT
BEGIN:VEVENT
DTSTART;VALUE=DATE:20240707
DTEND;VALUE=DATE:20240708
DTSTAMP:20260425T095645
CREATED:20240521T013705Z
LAST-MODIFIED:20240521T013809Z
UID:3012-1720310400-1720396799@unitedchurchofmoscow.com
SUMMARY:Service Day (click for more info)
DESCRIPTION:We will not be holding a service in the church today.  Instead\, we invite you to engage in some kind of service act\, no matter how small.
URL:https://unitedchurchofmoscow.com/events/service-day-click-for-more-info/
LOCATION:ID
END:VEVENT
BEGIN:VEVENT
DTSTART;TZID=America/Los_Angeles:20240714T100000
DTEND;TZID=America/Los_Angeles:20240714T110000
DTSTAMP:20260425T095645
CREATED:20240521T014524Z
LAST-MODIFIED:20240521T015440Z
UID:3020-1720951200-1720954800@unitedchurchofmoscow.com
SUMMARY:"Brain Function and Religion" (click for more info)
DESCRIPTION:Today we explore the 3rd in the DVD Series The Spiritual Brain: Science and Religious Experience.
URL:https://unitedchurchofmoscow.com/events/brain-function-and-religion-click-for-more-info/
LOCATION:ID
END:VEVENT
BEGIN:VEVENT
DTSTART;TZID=America/Los_Angeles:20240721T100000
DTEND;TZID=America/Los_Angeles:20240721T110000
DTSTAMP:20260425T095645
CREATED:20240521T014725Z
LAST-MODIFIED:20240521T014733Z
UID:3022-1721556000-1721559600@unitedchurchofmoscow.com
SUMMARY:"How Does Science Study Religion?" (click for more info)
DESCRIPTION:Today we explore the 4th in the DVD Series The Spiritual Brain: Science and Religious Experience.
URL:https://unitedchurchofmoscow.com/events/how-does-science-study-religion-click-for-more-info/
LOCATION:ID
END:VEVENT
BEGIN:VEVENT
DTSTART;TZID=America/Los_Angeles:20240728T100000
DTEND;TZID=America/Los_Angeles:20240728T110000
DTSTAMP:20260425T095645
CREATED:20240521T015003Z
LAST-MODIFIED:20240711T210020Z
UID:3024-1722160800-1722164400@unitedchurchofmoscow.com
SUMMARY:Traditional Service at Ghormley Park (click for more info)
DESCRIPTION:Join us at Ghormley Park in Moscow for a Traditional service in this outdoor space.  Check here for specific location and times.
URL:https://unitedchurchofmoscow.com/events/traditional-service-at-kamiak-butte-click-for-more-info/
LOCATION:ID
END:VEVENT
BEGIN:VEVENT
DTSTART;TZID=America/Los_Angeles:20240804T100000
DTEND;TZID=America/Los_Angeles:20240804T110000
DTSTAMP:20260425T095645
CREATED:20240521T015912Z
LAST-MODIFIED:20240711T210401Z
UID:3029-1722765600-1722769200@unitedchurchofmoscow.com
SUMMARY:Traditional Service
DESCRIPTION:Stay posted for more information.
URL:https://unitedchurchofmoscow.com/events/traditional-service-with-kristine-zakarison/
LOCATION:ID
END:VEVENT
BEGIN:VEVENT
DTSTART;VALUE=DATE:20240811
DTEND;VALUE=DATE:20240812
DTSTAMP:20260425T095645
CREATED:20240521T013935Z
LAST-MODIFIED:20240619T190920Z
UID:3015-1723334400-1723420799@unitedchurchofmoscow.com
SUMMARY:Service Day (click for more info)
DESCRIPTION:We will not be holding a service in the church today.  Instead\, we invite you to engage in some kind of service act\, no matter how small. \nWe are hosting Family Promise this week.
URL:https://unitedchurchofmoscow.com/events/service-day-click-for-more-info-2/
LOCATION:ID
END:VEVENT
BEGIN:VEVENT
DTSTART;TZID=America/Los_Angeles:20240818T100000
DTEND;TZID=America/Los_Angeles:20240818T110000
DTSTAMP:20260425T095645
CREATED:20240521T015652Z
LAST-MODIFIED:20240521T015652Z
UID:3027-1723975200-1723978800@unitedchurchofmoscow.com
SUMMARY:"Believers and Atheists"
DESCRIPTION:Today we explore the 5th in the DVD Series The Spiritual Brain: Science and Religious Experience.
URL:https://unitedchurchofmoscow.com/events/believers-and-atheists/
LOCATION:ID
END:VEVENT
BEGIN:VEVENT
DTSTART;TZID=America/Los_Angeles:20240825T100000
DTEND;TZID=America/Los_Angeles:20240825T110000
DTSTAMP:20260425T095645
CREATED:20240521T020030Z
LAST-MODIFIED:20240521T020042Z
UID:3031-1724580000-1724583600@unitedchurchofmoscow.com
SUMMARY:Faith Exploration - "I No Longer Call Myself a Christian"
DESCRIPTION:
URL:https://unitedchurchofmoscow.com/events/faith-exploration-i-no-longer-call-myself-a-christian/
LOCATION:ID
END:VEVENT
BEGIN:VEVENT
DTSTART;VALUE=DATE:20240901
DTEND;VALUE=DATE:20240902
DTSTAMP:20260425T095645
CREATED:20240521T014107Z
LAST-MODIFIED:20240521T014116Z
UID:3018-1725148800-1725235199@unitedchurchofmoscow.com
SUMMARY:Service Day (click for more info)
DESCRIPTION:We will not be holding a service in the church today.  Instead\, we invite you to engage in some kind of service act\, no matter how small.
URL:https://unitedchurchofmoscow.com/events/service-day-click-for-more-info-3/
LOCATION:ID
END:VEVENT
BEGIN:VEVENT
DTSTART;TZID=America/Los_Angeles:20240908T100000
DTEND;TZID=America/Los_Angeles:20240908T104000
DTSTAMP:20260425T095645
CREATED:20240829T234552Z
LAST-MODIFIED:20240829T234610Z
UID:3139-1725789600-1725792000@unitedchurchofmoscow.com
SUMMARY:Early Worship
DESCRIPTION:10:00 AM – Early Worship
URL:https://unitedchurchofmoscow.com/events/early-worship-2/
LOCATION:ID
END:VEVENT
END:VCALENDAR