BEGIN:VCALENDAR
VERSION:2.0
PRODID:-//The United Church of Moscow - ECPv6.15.20//NONSGML v1.0//EN
CALSCALE:GREGORIAN
METHOD:PUBLISH
X-WR-CALNAME:The United Church of Moscow
X-ORIGINAL-URL:https://unitedchurchofmoscow.com
X-WR-CALDESC:Events for The United Church of Moscow
REFRESH-INTERVAL;VALUE=DURATION:PT1H
X-Robots-Tag:noindex
X-PUBLISHED-TTL:PT1H
BEGIN:VTIMEZONE
TZID:America/Los_Angeles
BEGIN:DAYLIGHT
TZOFFSETFROM:-0800
TZOFFSETTO:-0700
TZNAME:PDT
DTSTART:20240310T100000
END:DAYLIGHT
BEGIN:STANDARD
TZOFFSETFROM:-0700
TZOFFSETTO:-0800
TZNAME:PST
DTSTART:20241103T090000
END:STANDARD
BEGIN:DAYLIGHT
TZOFFSETFROM:-0800
TZOFFSETTO:-0700
TZNAME:PDT
DTSTART:20250309T100000
END:DAYLIGHT
BEGIN:STANDARD
TZOFFSETFROM:-0700
TZOFFSETTO:-0800
TZNAME:PST
DTSTART:20251102T090000
END:STANDARD
BEGIN:DAYLIGHT
TZOFFSETFROM:-0800
TZOFFSETTO:-0700
TZNAME:PDT
DTSTART:20260308T100000
END:DAYLIGHT
BEGIN:STANDARD
TZOFFSETFROM:-0700
TZOFFSETTO:-0800
TZNAME:PST
DTSTART:20261101T090000
END:STANDARD
BEGIN:DAYLIGHT
TZOFFSETFROM:-0800
TZOFFSETTO:-0700
TZNAME:PDT
DTSTART:20270314T100000
END:DAYLIGHT
BEGIN:STANDARD
TZOFFSETFROM:-0700
TZOFFSETTO:-0800
TZNAME:PST
DTSTART:20271107T090000
END:STANDARD
END:VTIMEZONE
BEGIN:VEVENT
DTSTART;TZID=America/Los_Angeles:20260405T110000
DTEND;TZID=America/Los_Angeles:20260405T120000
DTSTAMP:20260423T125050
CREATED:20260208T231123Z
LAST-MODIFIED:20260208T231123Z
UID:3593-1775386800-1775390400@unitedchurchofmoscow.com
SUMMARY:Easter Worship Service
DESCRIPTION:We invite you to join us for our Easter Worship with Pastor Hannah Brown.
URL:https://unitedchurchofmoscow.com/events/easter-worship-service/
LOCATION:The United Church of Moscow\, 123 W First St.\, Moscow\, ID\, 83843\, United States
END:VEVENT
BEGIN:VEVENT
DTSTART;TZID=America/Los_Angeles:20260329T110000
DTEND;TZID=America/Los_Angeles:20260329T120000
DTSTAMP:20260423T125050
CREATED:20260208T230959Z
LAST-MODIFIED:20260208T230959Z
UID:3591-1774782000-1774785600@unitedchurchofmoscow.com
SUMMARY:Palm Sunday Service
DESCRIPTION:We invite you to join us for our Palm Sunday Worship with Pastor Hannah Brown.
URL:https://unitedchurchofmoscow.com/events/palm-sunday-service/
LOCATION:The United Church of Moscow\, 123 W First St.\, Moscow\, ID\, 83843\, United States
END:VEVENT
BEGIN:VEVENT
DTSTART;TZID=America/Los_Angeles:20260322T110000
DTEND;TZID=America/Los_Angeles:20260322T120000
DTSTAMP:20260423T125050
CREATED:20260208T230851Z
LAST-MODIFIED:20260208T230851Z
UID:3589-1774177200-1774180800@unitedchurchofmoscow.com
SUMMARY:Traditional Worship
DESCRIPTION:We invite you to join us for our Traditional Worship with Pastor Hannah Brown.
URL:https://unitedchurchofmoscow.com/events/traditional-worship-2/
LOCATION:The United Church of Moscow\, 123 W First St.\, Moscow\, ID\, 83843\, United States
END:VEVENT
BEGIN:VEVENT
DTSTART;TZID=America/Los_Angeles:20260315T110000
DTEND;TZID=America/Los_Angeles:20260315T120000
DTSTAMP:20260423T125050
CREATED:20260208T230626Z
LAST-MODIFIED:20260208T230626Z
UID:3585-1773572400-1773576000@unitedchurchofmoscow.com
SUMMARY:Faith Exploration
DESCRIPTION:We invite you to join us for our Faith Exploration.
URL:https://unitedchurchofmoscow.com/events/faith-exploration-13/
LOCATION:The United Church of Moscow\, 123 W First St.\, Moscow\, ID\, 83843\, United States
END:VEVENT
BEGIN:VEVENT
DTSTART;TZID=America/Los_Angeles:20260308T110000
DTEND;TZID=America/Los_Angeles:20260308T120000
DTSTAMP:20260423T125050
CREATED:20260208T230518Z
LAST-MODIFIED:20260208T230518Z
UID:3583-1772967600-1772971200@unitedchurchofmoscow.com
SUMMARY:Traditional Worship
DESCRIPTION:We invite you to join us for our Traditional Worship with Pastor Hannah Brown.
URL:https://unitedchurchofmoscow.com/events/traditional-worship/
LOCATION:The United Church of Moscow\, 123 W First St.\, Moscow\, ID\, 83843\, United States
END:VEVENT
BEGIN:VEVENT
DTSTART;TZID=America/Los_Angeles:20260301T110000
DTEND;TZID=America/Los_Angeles:20260301T120000
DTSTAMP:20260423T125050
CREATED:20260208T230345Z
LAST-MODIFIED:20260208T230345Z
UID:3581-1772362800-1772366400@unitedchurchofmoscow.com
SUMMARY:Faith Exploration
DESCRIPTION:We invite you to join us for our Faith Exploration.
URL:https://unitedchurchofmoscow.com/events/faith-exploration-12/
LOCATION:The United Church of Moscow\, 123 W First St.\, Moscow\, ID\, 83843\, United States
END:VEVENT
BEGIN:VEVENT
DTSTART;VALUE=DATE:20260228
DTEND;VALUE=DATE:20260301
DTSTAMP:20260423T125050
CREATED:20260116T011747Z
LAST-MODIFIED:20260116T011747Z
UID:3565-1772236800-1772323199@unitedchurchofmoscow.com
SUMMARY:UCM Rummage Sale!
DESCRIPTION:Join us for a fun Rummage sale!  Shop for your treasures among the many amazing items that will be for sale.
URL:https://unitedchurchofmoscow.com/events/ucm-rummage-sale/
LOCATION:The United Church of Moscow\, 123 W First St.\, Moscow\, ID\, 83843\, United States
END:VEVENT
BEGIN:VEVENT
DTSTART;TZID=America/Los_Angeles:20260222T110000
DTEND;TZID=America/Los_Angeles:20260222T120000
DTSTAMP:20260423T125050
CREATED:20260116T011437Z
LAST-MODIFIED:20260116T011437Z
UID:3563-1771758000-1771761600@unitedchurchofmoscow.com
SUMMARY:Traditional Worship with Pastor Hannah Brown
DESCRIPTION:We invite you to join us for our Traditional Worship with Pastor Hannah Brown.
URL:https://unitedchurchofmoscow.com/events/traditional-worship-with-pastor-hannah-brown-10/
LOCATION:The United Church of Moscow\, 123 W First St.\, Moscow\, ID\, 83843\, United States
END:VEVENT
BEGIN:VEVENT
DTSTART;TZID=America/Los_Angeles:20260218T180000
DTEND;TZID=America/Los_Angeles:20260218T190000
DTSTAMP:20260423T125050
CREATED:20260208T230734Z
LAST-MODIFIED:20260208T230734Z
UID:3587-1771437600-1771441200@unitedchurchofmoscow.com
SUMMARY:Ash Wednesday Service
DESCRIPTION:We invite you to join us for our Ash Wednesday Worship with Pastor Hannah Brown.
URL:https://unitedchurchofmoscow.com/events/ash-wednesday-service/
LOCATION:The United Church of Moscow\, 123 W First St.\, Moscow\, ID\, 83843\, United States
END:VEVENT
BEGIN:VEVENT
DTSTART;TZID=America/Los_Angeles:20260215T110000
DTEND;TZID=America/Los_Angeles:20260215T120000
DTSTAMP:20260423T125050
CREATED:20260116T011329Z
LAST-MODIFIED:20260116T013749Z
UID:3561-1771153200-1771156800@unitedchurchofmoscow.com
SUMMARY:Faith Exploration
DESCRIPTION:We invite you to join us for our Faith Exploration.
URL:https://unitedchurchofmoscow.com/events/faith-exploration-11/
LOCATION:The United Church of Moscow\, 123 W First St.\, Moscow\, ID\, 83843\, United States
END:VEVENT
BEGIN:VEVENT
DTSTART;TZID=America/Los_Angeles:20260208T110000
DTEND;TZID=America/Los_Angeles:20260208T120000
DTSTAMP:20260423T125050
CREATED:20260116T011232Z
LAST-MODIFIED:20260116T011232Z
UID:3559-1770548400-1770552000@unitedchurchofmoscow.com
SUMMARY:Traditional Worship with Pastor Hannah Brown
DESCRIPTION:We invite you to join us for our Traditional Worship with Pastor Hannah Brown.
URL:https://unitedchurchofmoscow.com/events/traditional-worship-with-pastor-hannah-brown-9/
LOCATION:The United Church of Moscow\, 123 W First St.\, Moscow\, ID\, 83843\, United States
END:VEVENT
BEGIN:VEVENT
DTSTART;TZID=America/Los_Angeles:20260201T110000
DTEND;TZID=America/Los_Angeles:20260201T120000
DTSTAMP:20260423T125050
CREATED:20260116T011130Z
LAST-MODIFIED:20260116T011130Z
UID:3557-1769943600-1769947200@unitedchurchofmoscow.com
SUMMARY:Faith Exploration
DESCRIPTION:We invite you to join us for our Faith Exploration.
URL:https://unitedchurchofmoscow.com/events/faith-exploration-10/
LOCATION:The United Church of Moscow\, 123 W First St.\, Moscow\, ID\, 83843\, United States
END:VEVENT
BEGIN:VEVENT
DTSTART;TZID=America/Los_Angeles:20260125T110000
DTEND;TZID=America/Los_Angeles:20260125T120000
DTSTAMP:20260423T125050
CREATED:20260116T010829Z
LAST-MODIFIED:20260116T010829Z
UID:3553-1769338800-1769342400@unitedchurchofmoscow.com
SUMMARY:Traditional Worship with Pastor Hannah Brown
DESCRIPTION:We invite you to join us for our Traditional Worship with Pastor Hannah Brown.
URL:https://unitedchurchofmoscow.com/events/traditional-worship-with-pastor-hannah-brown-8/
LOCATION:The United Church of Moscow\, 123 W First St.\, Moscow\, ID\, 83843\, United States
END:VEVENT
BEGIN:VEVENT
DTSTART;TZID=America/Los_Angeles:20260118T110000
DTEND;TZID=America/Los_Angeles:20260118T120000
DTSTAMP:20260423T125050
CREATED:20260116T011005Z
LAST-MODIFIED:20260116T011012Z
UID:3555-1768734000-1768737600@unitedchurchofmoscow.com
SUMMARY:Faith Exploration
DESCRIPTION:We invite you to join us for our Faith Exploration.
URL:https://unitedchurchofmoscow.com/events/faith-exploration-9/
LOCATION:The United Church of Moscow\, 123 W First St.\, Moscow\, ID\, 83843\, United States
END:VEVENT
BEGIN:VEVENT
DTSTART;TZID=America/Los_Angeles:20260111T110000
DTEND;TZID=America/Los_Angeles:20260111T120000
DTSTAMP:20260423T125050
CREATED:20260116T010556Z
LAST-MODIFIED:20260116T010556Z
UID:3549-1768129200-1768132800@unitedchurchofmoscow.com
SUMMARY:Traditional Worship with Pastor Hannah Brown
DESCRIPTION:We invite you to join us for our Traditional Worship with Pastor Hannah Brown.
URL:https://unitedchurchofmoscow.com/events/traditional-worship-with-pastor-hannah-brown-7/
LOCATION:The United Church of Moscow\, 123 W First St.\, Moscow\, ID\, 83843\, United States
END:VEVENT
BEGIN:VEVENT
DTSTART;TZID=America/Los_Angeles:20260104T110000
DTEND;TZID=America/Los_Angeles:20260104T120000
DTSTAMP:20260423T125050
CREATED:20260116T010656Z
LAST-MODIFIED:20260116T010656Z
UID:3551-1767524400-1767528000@unitedchurchofmoscow.com
SUMMARY:Faith Exploration
DESCRIPTION:We invite you to join us for our Faith Exploration.
URL:https://unitedchurchofmoscow.com/events/faith-exploration-8/
LOCATION:The United Church of Moscow\, 123 W First St.\, Moscow\, ID\, 83843\, United States
END:VEVENT
BEGIN:VEVENT
DTSTART;VALUE=DATE:20251228
DTEND;VALUE=DATE:20251229
DTSTAMP:20260423T125050
CREATED:20251207T001849Z
LAST-MODIFIED:20251207T001858Z
UID:3509-1766880000-1766966399@unitedchurchofmoscow.com
SUMMARY:A Safe and Blessed Holiday to You
DESCRIPTION:We will not hold Worship today. We wish you a safe and blessed Holiday.
URL:https://unitedchurchofmoscow.com/events/a-safe-and-blessed-holiday-to-you-2/
LOCATION:The United Church of Moscow\, 123 W First St.\, Moscow\, ID\, 83843\, United States
END:VEVENT
BEGIN:VEVENT
DTSTART;TZID=America/Los_Angeles:20251224T190000
DTEND;TZID=America/Los_Angeles:20251224T200000
DTSTAMP:20260423T125050
CREATED:20251207T001639Z
LAST-MODIFIED:20251207T001639Z
UID:3506-1766602800-1766606400@unitedchurchofmoscow.com
SUMMARY:Christmas Eve Worship Service
DESCRIPTION:We invite you to join us for our Christmas Eve service with Pastor Hannah Brown.
URL:https://unitedchurchofmoscow.com/events/christmas-eve-worship-service/
LOCATION:The United Church of Moscow\, 123 W First St.\, Moscow\, ID\, 83843\, United States
END:VEVENT
BEGIN:VEVENT
DTSTART;TZID=America/Los_Angeles:20251221T110000
DTEND;TZID=America/Los_Angeles:20251221T120000
DTSTAMP:20260423T125050
CREATED:20251120T063159Z
LAST-MODIFIED:20251120T063243Z
UID:3487-1766314800-1766318400@unitedchurchofmoscow.com
SUMMARY:Traditional Worship with Pastor Hannah Brown
DESCRIPTION:We invite you to join us for our Traditional Worship with Pastor Hannah Brown.
URL:https://unitedchurchofmoscow.com/events/traditional-worship-with-pastor-hannah-brown-6/
LOCATION:The United Church of Moscow\, 123 W First St.\, Moscow\, ID\, 83843\, United States
END:VEVENT
BEGIN:VEVENT
DTSTART;TZID=America/Los_Angeles:20251214T110000
DTEND;TZID=America/Los_Angeles:20251214T120000
DTSTAMP:20260423T125050
CREATED:20251120T062857Z
LAST-MODIFIED:20251120T063014Z
UID:3485-1765710000-1765713600@unitedchurchofmoscow.com
SUMMARY:Faith Exploration
DESCRIPTION:We invite you to join us for our Faith Exploration.
URL:https://unitedchurchofmoscow.com/events/faith-exploration-7/
LOCATION:The United Church of Moscow\, 123 W First St.\, Moscow\, ID\, 83843\, United States
END:VEVENT
BEGIN:VEVENT
DTSTART;TZID=America/Los_Angeles:20251207T110000
DTEND;TZID=America/Los_Angeles:20251207T120000
DTSTAMP:20260423T125050
CREATED:20251120T062657Z
LAST-MODIFIED:20251120T062657Z
UID:3482-1765105200-1765108800@unitedchurchofmoscow.com
SUMMARY:Traditional Worship with Pastor Hannah Brown
DESCRIPTION:We invite you to join us for our Traditional Worship with Pastor Hannah Brown.
URL:https://unitedchurchofmoscow.com/events/traditional-worship-with-pastor-hannah-brown-5/
LOCATION:The United Church of Moscow\, 123 W First St.\, Moscow\, ID\, 83843\, United States
END:VEVENT
BEGIN:VEVENT
DTSTART;VALUE=DATE:20251130
DTEND;VALUE=DATE:20251201
DTSTAMP:20260423T125050
CREATED:20251029T062749Z
LAST-MODIFIED:20251113T005134Z
UID:3466-1764460800-1764547199@unitedchurchofmoscow.com
SUMMARY:A Safe and Blessed Holiday to You
DESCRIPTION:We will not hold Worship today. We wish you a safe and blessed Holiday. If you would like to join in the Christmas Decorating\, join us at 11am!
URL:https://unitedchurchofmoscow.com/events/a-safe-and-blessed-holiday-to-you/
LOCATION:The United Church of Moscow\, 123 W First St.\, Moscow\, ID\, 83843\, United States
END:VEVENT
BEGIN:VEVENT
DTSTART;TZID=America/Los_Angeles:20251123T110000
DTEND;TZID=America/Los_Angeles:20251123T120000
DTSTAMP:20260423T125050
CREATED:20251029T062622Z
LAST-MODIFIED:20251029T062906Z
UID:3464-1763895600-1763899200@unitedchurchofmoscow.com
SUMMARY:Faith Exploration
DESCRIPTION:We invite you to join us for our Faith Exploration.
URL:https://unitedchurchofmoscow.com/events/faith-exploration-6/
LOCATION:The United Church of Moscow\, 123 W First St.\, Moscow\, ID\, 83843\, United States
END:VEVENT
BEGIN:VEVENT
DTSTART;TZID=America/Los_Angeles:20251116T110000
DTEND;TZID=America/Los_Angeles:20251116T120000
DTSTAMP:20260423T125050
CREATED:20251029T062339Z
LAST-MODIFIED:20251029T062515Z
UID:3462-1763290800-1763294400@unitedchurchofmoscow.com
SUMMARY:Traditional Worship with Pastor Hannah Brown
DESCRIPTION:We invite you to join us for our Traditional Worship with Pastor Hannah Brown.
URL:https://unitedchurchofmoscow.com/events/traditional-worship-with-pastor-hannah-brown-4/
LOCATION:The United Church of Moscow\, 123 W First St.\, Moscow\, ID\, 83843\, United States
END:VEVENT
BEGIN:VEVENT
DTSTART;TZID=America/Los_Angeles:20251109T110000
DTEND;TZID=America/Los_Angeles:20251109T120000
DTSTAMP:20260423T125050
CREATED:20251002T052614Z
LAST-MODIFIED:20251002T052614Z
UID:3444-1762686000-1762689600@unitedchurchofmoscow.com
SUMMARY:Installation Service of Pastor Hannah Brown
DESCRIPTION:We invite you to join us for a special Installation Service of Pastor Hannah Brown.
URL:https://unitedchurchofmoscow.com/events/installation-service-of-pastor-hannah-brown/
LOCATION:The United Church of Moscow\, 123 W First St.\, Moscow\, ID\, 83843\, United States
END:VEVENT
BEGIN:VEVENT
DTSTART;TZID=America/Los_Angeles:20251102T110000
DTEND;TZID=America/Los_Angeles:20251102T120000
DTSTAMP:20260423T125050
CREATED:20251002T052314Z
LAST-MODIFIED:20251002T052314Z
UID:3442-1762081200-1762084800@unitedchurchofmoscow.com
SUMMARY:Traditional Worship with Pastor Hannah Brown
DESCRIPTION:We invite you to join us for our Traditional Worship with Pastor Hannah Brown.
URL:https://unitedchurchofmoscow.com/events/traditional-worship-with-pastor-hannah-brown-3/
LOCATION:The United Church of Moscow\, 123 W First St.\, Moscow\, ID\, 83843\, United States
END:VEVENT
BEGIN:VEVENT
DTSTART;TZID=America/Los_Angeles:20251026T110000
DTEND;TZID=America/Los_Angeles:20251026T120000
DTSTAMP:20260423T125050
CREATED:20251002T052117Z
LAST-MODIFIED:20251002T052117Z
UID:3440-1761476400-1761480000@unitedchurchofmoscow.com
SUMMARY:Faith Exploration
DESCRIPTION:We invite you to join us for our Faith Exploration.
URL:https://unitedchurchofmoscow.com/events/faith-exploration-5/
LOCATION:The United Church of Moscow\, 123 W First St.\, Moscow\, ID\, 83843\, United States
END:VEVENT
BEGIN:VEVENT
DTSTART;TZID=America/Los_Angeles:20251019T110000
DTEND;TZID=America/Los_Angeles:20251019T120000
DTSTAMP:20260423T125050
CREATED:20251002T051925Z
LAST-MODIFIED:20251002T051925Z
UID:3438-1760871600-1760875200@unitedchurchofmoscow.com
SUMMARY:Traditional Worship with Pastor Hannah Brown
DESCRIPTION:We invite you to join us for our Traditional Worship with Pastor Hannah Brown.
URL:https://unitedchurchofmoscow.com/events/traditional-worship-with-pastor-hannah-brown-2/
LOCATION:The United Church of Moscow\, 123 W First St.\, Moscow\, ID\, 83843\, United States
END:VEVENT
BEGIN:VEVENT
DTSTART;TZID=America/Los_Angeles:20251012T110000
DTEND;TZID=America/Los_Angeles:20251012T120000
DTSTAMP:20260423T125050
CREATED:20251002T051745Z
LAST-MODIFIED:20251002T051745Z
UID:3436-1760266800-1760270400@unitedchurchofmoscow.com
SUMMARY:Faith Exploration
DESCRIPTION:We invite you to join us for our Faith Exploration.
URL:https://unitedchurchofmoscow.com/events/faith-exploration-4/
LOCATION:The United Church of Moscow\, 123 W First St.\, Moscow\, ID\, 83843\, United States
END:VEVENT
BEGIN:VEVENT
DTSTART;TZID=America/Los_Angeles:20251005T110000
DTEND;TZID=America/Los_Angeles:20251005T120000
DTSTAMP:20260423T125050
CREATED:20251002T051609Z
LAST-MODIFIED:20251002T051609Z
UID:3434-1759662000-1759665600@unitedchurchofmoscow.com
SUMMARY:Traditional Worship with Pastor Hannah Brown
DESCRIPTION:We invite you to join us for our Traditional Worship with Pastor Hannah Brown
URL:https://unitedchurchofmoscow.com/events/traditional-worship-with-pastor-hannah-brown/
LOCATION:The United Church of Moscow\, 123 W First St.\, Moscow\, ID\, 83843\, United States
END:VEVENT
END:VCALENDAR