BEGIN:VCALENDAR
VERSION:2.0
PRODID:-//The United Church of Moscow - ECPv6.15.20//NONSGML v1.0//EN
CALSCALE:GREGORIAN
METHOD:PUBLISH
X-ORIGINAL-URL:https://unitedchurchofmoscow.com
X-WR-CALDESC:Events for The United Church of Moscow
REFRESH-INTERVAL;VALUE=DURATION:PT1H
X-Robots-Tag:noindex
X-PUBLISHED-TTL:PT1H
BEGIN:VTIMEZONE
TZID:America/Los_Angeles
BEGIN:DAYLIGHT
TZOFFSETFROM:-0800
TZOFFSETTO:-0700
TZNAME:PDT
DTSTART:20240310T100000
END:DAYLIGHT
BEGIN:STANDARD
TZOFFSETFROM:-0700
TZOFFSETTO:-0800
TZNAME:PST
DTSTART:20241103T090000
END:STANDARD
BEGIN:DAYLIGHT
TZOFFSETFROM:-0800
TZOFFSETTO:-0700
TZNAME:PDT
DTSTART:20250309T100000
END:DAYLIGHT
BEGIN:STANDARD
TZOFFSETFROM:-0700
TZOFFSETTO:-0800
TZNAME:PST
DTSTART:20251102T090000
END:STANDARD
BEGIN:DAYLIGHT
TZOFFSETFROM:-0800
TZOFFSETTO:-0700
TZNAME:PDT
DTSTART:20260308T100000
END:DAYLIGHT
BEGIN:STANDARD
TZOFFSETFROM:-0700
TZOFFSETTO:-0800
TZNAME:PST
DTSTART:20261101T090000
END:STANDARD
END:VTIMEZONE
BEGIN:VEVENT
DTSTART;VALUE=DATE:20250803
DTEND;VALUE=DATE:20250804
DTSTAMP:20260423T225353
CREATED:20250701T014626Z
LAST-MODIFIED:20250701T014636Z
UID:3354-1754179200-1754265599@unitedchurchofmoscow.com
SUMMARY:As we will not hold an in-house service\, we invite you to perform a service for your community.
DESCRIPTION:As we will not hold an in-house service\, we invite you to perform a service for your community.
URL:https://unitedchurchofmoscow.com/events/as-we-will-not-hold-an-in-house-service-we-invite-you-to-perform-a-service-for-your-community/
LOCATION:The United Church of Moscow\, 123 W First St.\, Moscow\, ID\, 83843\, United States
END:VEVENT
BEGIN:VEVENT
DTSTART;TZID=America/Los_Angeles:20250803T100000
DTEND;TZID=America/Los_Angeles:20250803T140000
DTSTAMP:20260423T225353
CREATED:20250720T190119Z
LAST-MODIFIED:20250727T183524Z
UID:3376-1754215200-1754229600@unitedchurchofmoscow.com
SUMMARY:Habitat for Humanity Day! (open for important details)
DESCRIPTION:Service in the Community Day!\nWe have scheduled a special event for Sunday 3 Aug 2025\, rather than a traditional church service: as volunteers for Palouse Habitat for Humanity we will repair the stairs to the front porch\, add handrails to the side door\, and repair a section of the skirting for a home in Moscow. A while ago we worked on a home repair for a family in Albion\, WA and were very successful. We will meet at the UCM at 10:00 AM and then proceed to the job site. Wear your work clothes and gloves and PHFH will provide all the tools\, equipment and guidance needed – the usual tools are hammers\, screwdrivers\, and saws and skills are not required.\n   There are a number of “paperwork” requirements so please complete the registration – if you register and then need to cancel for any reason that is OK – but if you wait until 3 Aug to register\, that’s too late!\n1. Go to palousehabitat.org\n2. click on Volunteer\n3. click on “Volunteer Interest Form” and fill out the pertinent information\, then Submit\n4. email outreach@palousehabitat.org and ask for the Volunteer Registration and Release Form for 3 August 2025\n   The registration is tedious\, but it’s a lot more fun when you can help your neighbor by swinging a hammer rather than sitting on a pew in a nice summer day!\n\nAdditional Information:\nWe will be working nearby\, on a mobile home in Robinson Park. We will be repairing the stairs to the front porch\, installing hand-rails for the side door\, and repairing a short section of skirting. No experience needed and if we have at least 6 workers we should finish in no more than 3 hours. If anyone would prefer to make some sandwiches and lemonade for the workers\, you are welcome!\nBe sure to register as soon as possible since we will be meeting at the Church at 1000 on the summer work Sunday\, and that will be too late. If you have any questions\, please contact Brent ( 208-301-1124 or brentbradberry@moscow.com)
URL:https://unitedchurchofmoscow.com/events/habitat-for-humanity-day-open-for-important-details/
LOCATION:palousehabitat.org
END:VEVENT
END:VCALENDAR